Workbook
Name base.year: Input!#REF!
Name delta: Computations!$R$4
Name first.year: Input!$C$13
Name label: Input!$C$4
Name launch.year: Input!#REF!
Name nation: Input!#REF!
Name one.refer: [1]Computations!#REF!
Name reference.area: Input!$C$9
Name second.year: Input!$C$14
Name study.area: Input!$C$8
Name study.label: Input!#REF!
Name variable: Input!$C$10
Name variable.code: Input!$C$12
Name variable.label: Input!$C$11

Sheet Documentation
A1: Shift-Share Analysis_1.01.xlsx
A3: The Shift-Share Analysis workbook implements the shift-share analysis method described in pages 146 through 151 of Richard E. Klosterman, Kerry Brooks, Joshua Drucker, Edward Feser, and Henry Renski. Planning Support Methods: Urban and Regional Analysis and Projection (Rowman and Littlefield: 2018). The workbook is distributed with employment data for the City of Decatur and the United States that are used in that section of the Planning Support Methods text.
A5: Shift-share analysis is generally used to analyze employment and occupational changes. However, it is also applicable to any changes in a local area and an appropriate reference area that can be disaggregated into three mutually exclusive and exhaustive shift-share components. Planning examples include analyzing the population divided by race or ethnicity, the distribution of income or wealth by quantiles, agricultural production by commodity, land uses by type, and travel by mode in a city, county, statistical area, or state.
A7: Contents
A9: The Shift-Share Analysis workbook has four worksheets:
A11: (1) Documentation describes the Shift-Share Analysis workbook, procedures for using it, the required inputs, and the outputs.
A13: (2) Input is used to enter the shift-share analysis parameters and observed data. Portions of the worksheet are projected and cannot be modified by users.
A15: (3) Calculation computes the shift-share analysis components. The worksheet is protected and cannot be modified by users.
A17: (4) Output reports the observed data and the three shift-share components. The output tables are protected and cannot be modified by users.
A19: Inputs and Procedures
A21: The Input worksheet is used to enter seven parameters and the required study area and reference area data. The data are entered in the cells highlighted in blue. The other cells are locked and cannot be modified by the user.
A23: The following values are entered on the Input worksheet.
... A51: The third table reports: (1) the observed reference area data in the first and second analysis years; and (2) the observed reference area changes between the first and second analysis years.

Sheet Input
B4: Label = | C4: ="Shift-Share Analysis: "&study.area&" "&variable&": "&first.year&"-"&second.year -> Shift-Share Analysis: Decatur Employment: 2011-2013
E6: =study.area&" "&variable -> Decatur Employment | J6: =reference.area&" "&variable -> United States Employment
B8: Study Area = | C8: Decatur | E8: =variable.code -> NAICS Code | F8: =variable.label -> NAICS Sector | G8: =first.year -> 2011 | H8: =second.year -> 2013 | J8: =variable.code -> NAICS Code | K8: =variable.label -> NAICS Sector | L8: =first.year -> 2011 | M8: =second.year -> 2013
B9: Reference Area = | C9: United States | E9: (1) | F9: (2) | G9: (3) | H9: (4) | J9: (1) | K9: (2) | L9: (3) | M9: (4)
B10: Variable = | C10: Employment | E10: 11 | F10: Agriculture, Forstery, Fishing and Hunting | G10: 0 | H10: 0 | J10: =IF(E10="","",E10) -> 11 | K10: =IF(F10="","",F10) -> Agriculture, Forstery, Fishing and Hunting | L10: 156520 | M10: 154496
B11: Variable Label = | C11: NAICS Sector | E11: 21 | F11: Mining, Quarrying, and Oil and Gas Extraction | G11: 0 | H11: 0 | J11: =IF(E11="","",E11) -> 21 | K11: =IF(F11="","",F11) -> Mining, Quarrying, and Oil and Gas Extraction | L11: 651204 | M11: 732186
B12: Variable Code = | C12: NAICS Code | E12: 22 | F12: Utilties | G12: 6.7581878 | H12: 6.7632824 | J12: =IF(E12="","",E12) -> 22 | K12: =IF(F12="","",F12) -> Utilties | L12: 639795 | M12: 638575
B13: First Year = | C13: 2011 | E13: 23 | F13: Construction | G13: 258.74205 | H13: 251.20763 | J13: =IF(E13="","",E13) -> 23 | K13: =IF(F13="","",F13) -> Construction | L13: 5190921 | M13: 5470181
B14: Second Year = | C14: 2013 | E14: 31 | F14: Manufacturing | G14: 288.67116 | H14: 368.1158 | J14: =IF(E14="","",E14) -> 31 | K14: =IF(F14="","",F14) -> Manufacturing | L14: 10984361 | M14: 11276438
E15: 42 | F15: Wholesale Trade | G15: 142.8874 | H15: 840.57938 | J15: =IF(E15="","",E15) -> 42 | K15: =IF(F15="","",F15) -> Wholesale Trade | L15: 5626328 | M15: 5908763
E16: 44 | F16: Retail Trade | G16: 1431.7704 | H16: 834.78228 | J16: =IF(E16="","",E16) -> 44 | K16: =IF(F16="","",F16) -> Retail Trade | L16: 14698563 | M16: 15023362
E17: 48 | F17: Transportation and Warehousing | G17: 149.64559 | H17: 83.091755 | J17: =IF(E17="","",E17) -> 48 | K17: =IF(F17="","",F17) -> Transportation and Warehousing | L17: 4106359 | M17: 4287236
E18: 51 | F18: Information | G18: 135.16376 | H18: 364.25106 | J18: =IF(E18="","",E18) -> 51 | K18: =IF(F18="","",F18) -> Information | L18: 3121317 | M18: 3266084
E19: 52 | F19: Finance and Insurance | G19: 318.60028 | H19: 221.25595 | J19: =IF(E19="","",E19) -> 52 | K19: =IF(F19="","",F19) -> Finance and Insurance | L19: 5886602 | M19: 6063761
E20: 53 | F20: Real Estate and Rental and Leasing | G20: 182.47107 | H20: 215.45885 | J20: =IF(E20="","",E20) -> 53 | K20: =IF(F20="","",F20) -> Real Estate and Rental and Leasing | L20: 1917640 | M20: 1972105
E21: 54 | F21: Professional, Scientific, and Technical Services | G21: 1600.725 | H21: 1317.8739 | J21: =IF(E21="","",E21) -> 54 | K21: =IF(F21="","",F21) -> Professional, Scientific, and Technical Services | L21: 7929910 | M21: 8275350
E22: 55 | F22: Management of Companies and Enterprises | G22: 1.9309108 | H22: 1.9323664 | J22: =IF(E22="","",E22) -> 55 | K22: =IF(F22="","",F22) -> Management of Companies and Enterprises | L22: 2921669 | M22: 3098762
E23: 56 | F23: Administrative and Support Services | G23: 1057.1737 | H23: 704.34755 | J23: =IF(E23="","",E23) -> 56 | K23: =IF(F23="","",F23) -> Administrative and Support Services | L23: 9389950 | M23: 10185297
E24: 61 | F24: Educational Services | G24: 1544.7286 | H24: 1657.9704 | J24: =IF(E24="","",E24) -> 61 | K24: =IF(F24="","",F24) -> Educational Services | L24: 3386047 | M24: 3513469
E25: 62 | F25: Health Care and Social Assistance | G25: 2805.6134 | H25: 2578.7429 | J25: =IF(E25="","",E25) -> 62 | K25: =IF(F25="","",F25) -> Health Care and Social Assistance | L25: 18059112 | M25: 18598711
E26: 71 | F26: Arts, Entertainment, and Recreation | G26: 91.718263 | H26: 117.87435 | J26: =IF(E26="","",E26) -> 71 | K26: =IF(F26="","",F26) -> Arts, Entertainment, and Recreation | L26: 2003129 | M26: 2112000
... E29: 99 | F29: Industries not classified | G29: 9.654554 | H29: 15.458931 | J29: =IF(E29="","",E29) -> 99 | K29: =IF(F29="","",F29) -> Industries not classified | L29: 19728 | M29: 11402
J30: =IF(E30="","",E30) | K30: =IF(F30="","",F30)
J31: =IF(E31="","",E31) | K31: =IF(F31="","",F31)
J32: =IF(E32="","",E32) | K32: =IF(F32="","",F32)
J33: =IF(E33="","",E33) | K33: =IF(F33="","",F33)
J34: =IF(E34="","",E34) | K34: =IF(F34="","",F34)
J35: =IF(E35="","",E35) | K35: =IF(F35="","",F35)
J36: =IF(E36="","",E36) | K36: =IF(F36="","",F36)
J37: =IF(E37="","",E37) | K37: =IF(F37="","",F37)
J38: =IF(E38="","",E38) | K38: =IF(F38="","",F38)
J39: =IF(E39="","",E39) | K39: =IF(F39="","",F39)
E40: --- | F40: Total | G40: =SUM(G10:G39) -> 12381 | H40: =SUM(H10:H39) -> 12257 | J40: =E40 -> --- | K40: =F40 -> Total | L40: =SUM(L10:L39) -> 113427241 | M40: =SUM(M10:M39) -> 118266253

Sheet Computations
B2: =variable&" and "&variable&" Change: "&study.area&", "&first.year&"-"&second.year -> Employment and Employment Change: Decatur , 2011-2013 | J2: =variable&" and "&variable&" Change: "&reference.area&", "&first.year&"-"&second.year -> Employment and Employment Change: United States, 2011-2013
B4: =variable.code -> NAICS Code | C4: =variable.label -> NAICS Sector | D4: =variable -> Employment | F4: Change | J4: =variable.code -> NAICS Code | K4: =variable.label -> NAICS Sector | L4: =variable -> Employment | N4: Change | R4: Δ
D5: =first.year -> 2011 | E5: =second.year -> 2013 | F5: Number | G5: Percent | L5: =first.year -> 2011 | M5: =second.year -> 2013 | N5: Number | O5: Percent
B6: i | D6: ="x{i}^"&first.year -> x{i}^2011 | E6: ="x{i}^"&second.year -> x{i}^2013 | F6: ="Δx{i}^{"&first.year&","&second.year&"}" -> Δx{i}^{2011,2013} | J6: i | L6: ="X{i}^"&first.year -> X{i}^2011 | M6: ="X{i}^"&second.year -> X{i}^2013 | N6: ="ΔX{i}^{"&first.year&","&second.year&"}" -> ΔX{i}^{2011,2013}
B7: (1) | C7: (2) | D7: (3) | E7: (4) | F7: (5) | G7: (6) | J7: (1) | K7: (2) | L7: (3) | M7: (4) | N7: (5) | O7: (6)
B8: =IF(Input!E10="","",Input!E10) -> 11 | C8: =IF(Input!F10="","",Input!F10) -> Agriculture, Forstery, Fishing and Hunting | D8: =IF(Input!G10="","",Input!G10) -> 0 | E8: =IF(Input!H10="","",Input!H10) -> 0 | F8: =IF(B8<>"",E8-D8,"") -> 0 | G8: =IF(B8="","",IF(D8<>0,(F8/D8)*100,"n.a.")) -> n.a. | J8: =IF(Input!E10="","",Input!E10) -> 11 | K8: =IF(Input!F10="","",Input!F10) -> Agriculture, Forstery, Fishing and Hunting | L8: =IF(Input!L10="","",Input!L10) -> 156520 | M8: =IF(Input!M10="","",Input!M10) -> 154496 | N8: =IF(J8<>"",M8-L8,"") -> -2024 | O8: =IF(J8="","",IF(L8<>0,(N8/L8)*100,"n.a.")) -> -1.2931255
B9: =IF(Input!E11="","",Input!E11) -> 21 | C9: =IF(Input!F11="","",Input!F11) -> Mining, Quarrying, and Oil and Gas Extraction | D9: =IF(Input!G11="","",Input!G11) -> 0 | E9: =IF(Input!H11="","",Input!H11) -> 0 | F9: =IF(B9<>"",E9-D9,"") -> 0 | G9: =IF(B9="","",IF(D9<>0,(F9/D9)*100,"n.a.")) -> n.a. | J9: =IF(Input!E11="","",Input!E11) -> 21 | K9: =IF(Input!F11="","",Input!F11) -> Mining, Quarrying, and Oil and Gas Extraction | L9: =IF(Input!L11="","",Input!L11) -> 651204 | M9: =IF(Input!M11="","",Input!M11) -> 732186 | N9: =IF(J9<>"",M9-L9,"") -> 80982 | O9: =IF(J9="","",IF(L9<>0,(N9/L9)*100,"n.a.")) -> 12.435734
B10: =IF(Input!E12="","",Input!E12) -> 22 | C10: =IF(Input!F12="","",Input!F12) -> Utilties | D10: =IF(Input!G12="","",Input!G12) -> 6.7581878 | E10: =IF(Input!H12="","",Input!H12) -> 6.7632824 | F10: =IF(B10<>"",E10-D10,"") -> 0.0050945856 | G10: =IF(B10="","",IF(D10<>0,(F10/D10)*100,"n.a.")) -> 0.075383901 | J10: =IF(Input!E12="","",Input!E12) -> 22 | K10: =IF(Input!F12="","",Input!F12) -> Utilties | L10: =IF(Input!L12="","",Input!L12) -> 639795 | M10: =IF(Input!M12="","",Input!M12) -> 638575 | N10: =IF(J10<>"",M10-L10,"") -> -1220 | O10: =IF(J10="","",IF(L10<>0,(N10/L10)*100,"n.a.")) -> -0.19068608
B11: =IF(Input!E13="","",Input!E13) -> 23 | C11: =IF(Input!F13="","",Input!F13) -> Construction | D11: =IF(Input!G13="","",Input!G13) -> 258.74205 | E11: =IF(Input!H13="","",Input!H13) -> 251.20763 | F11: =IF(B11<>"",E11-D11,"") -> -7.5344157 | G11: =IF(B11="","",IF(D11<>0,(F11/D11)*100,"n.a.")) -> -2.911941 | J11: =IF(Input!E13="","",Input!E13) -> 23 | K11: =IF(Input!F13="","",Input!F13) -> Construction | L11: =IF(Input!L13="","",Input!L13) -> 5190921 | M11: =IF(Input!M13="","",Input!M13) -> 5470181 | N11: =IF(J11<>"",M11-L11,"") -> 279260 | O11: =IF(J11="","",IF(L11<>0,(N11/L11)*100,"n.a.")) -> 5.3797775
B12: =IF(Input!E14="","",Input!E14) -> 31 | C12: =IF(Input!F14="","",Input!F14) -> Manufacturing | D12: =IF(Input!G14="","",Input!G14) -> 288.67116 | E12: =IF(Input!H14="","",Input!H14) -> 368.1158 | F12: =IF(B12<>"",E12-D12,"") -> 79.444633 | G12: =IF(B12="","",IF(D12<>0,(F12/D12)*100,"n.a.")) -> 27.520807 | J12: =IF(Input!E14="","",Input!E14) -> 31 | K12: =IF(Input!F14="","",Input!F14) -> Manufacturing | L12: =IF(Input!L14="","",Input!L14) -> 10984361 | M12: =IF(Input!M14="","",Input!M14) -> 11276438 | N12: =IF(J12<>"",M12-L12,"") -> 292077 | O12: =IF(J12="","",IF(L12<>0,(N12/L12)*100,"n.a.")) -> 2.6590259
B13: =IF(Input!E15="","",Input!E15) -> 42 | C13: =IF(Input!F15="","",Input!F15) -> Wholesale Trade | D13: =IF(Input!G15="","",Input!G15) -> 142.8874 | E13: =IF(Input!H15="","",Input!H15) -> 840.57938 | F13: =IF(B13<>"",E13-D13,"") -> 697.69198 | G13: =IF(B13="","",IF(D13<>0,(F13/D13)*100,"n.a.")) -> 488.28097 | J13: =IF(Input!E15="","",Input!E15) -> 42 | K13: =IF(Input!F15="","",Input!F15) -> Wholesale Trade | L13: =IF(Input!L15="","",Input!L15) -> 5626328 | M13: =IF(Input!M15="","",Input!M15) -> 5908763 | N13: =IF(J13<>"",M13-L13,"") -> 282435 | O13: =IF(J13="","",IF(L13<>0,(N13/L13)*100,"n.a.")) -> 5.0198815
B14: =IF(Input!E16="","",Input!E16) -> 44 | C14: =IF(Input!F16="","",Input!F16) -> Retail Trade | D14: =IF(Input!G16="","",Input!G16) -> 1431.7704 | E14: =IF(Input!H16="","",Input!H16) -> 834.78228 | F14: =IF(B14<>"",E14-D14,"") -> -596.98807 | G14: =IF(B14="","",IF(D14<>0,(F14/D14)*100,"n.a.")) -> -41.695798 | J14: =IF(Input!E16="","",Input!E16) -> 44 | K14: =IF(Input!F16="","",Input!F16) -> Retail Trade | L14: =IF(Input!L16="","",Input!L16) -> 14698563 | M14: =IF(Input!M16="","",Input!M16) -> 15023362 | N14: =IF(J14<>"",M14-L14,"") -> 324799 | O14: =IF(J14="","",IF(L14<>0,(N14/L14)*100,"n.a.")) -> 2.209733
B15: =IF(Input!E17="","",Input!E17) -> 48 | C15: =IF(Input!F17="","",Input!F17) -> Transportation and Warehousing | D15: =IF(Input!G17="","",Input!G17) -> 149.64559 | E15: =IF(Input!H17="","",Input!H17) -> 83.091755 | F15: =IF(B15<>"",E15-D15,"") -> -66.553832 | G15: =IF(B15="","",IF(D15<>0,(F15/D15)*100,"n.a.")) -> -44.474303 | J15: =IF(Input!E17="","",Input!E17) -> 48 | K15: =IF(Input!F17="","",Input!F17) -> Transportation and Warehousing | L15: =IF(Input!L17="","",Input!L17) -> 4106359 | M15: =IF(Input!M17="","",Input!M17) -> 4287236 | N15: =IF(J15<>"",M15-L15,"") -> 180877 | O15: =IF(J15="","",IF(L15<>0,(N15/L15)*100,"n.a.")) -> 4.4048024
B16: =IF(Input!E18="","",Input!E18) -> 51 | C16: =IF(Input!F18="","",Input!F18) -> Information | D16: =IF(Input!G18="","",Input!G18) -> 135.16376 | E16: =IF(Input!H18="","",Input!H18) -> 364.25106 | F16: =IF(B16<>"",E16-D16,"") -> 229.08731 | G16: =IF(B16="","",IF(D16<>0,(F16/D16)*100,"n.a.")) -> 169.48871 | J16: =IF(Input!E18="","",Input!E18) -> 51 | K16: =IF(Input!F18="","",Input!F18) -> Information | L16: =IF(Input!L18="","",Input!L18) -> 3121317 | M16: =IF(Input!M18="","",Input!M18) -> 3266084 | N16: =IF(J16<>"",M16-L16,"") -> 144767 | O16: =IF(J16="","",IF(L16<>0,(N16/L16)*100,"n.a.")) -> 4.6380102
B17: =IF(Input!E19="","",Input!E19) -> 52 | C17: =IF(Input!F19="","",Input!F19) -> Finance and Insurance | D17: =IF(Input!G19="","",Input!G19) -> 318.60028 | E17: =IF(Input!H19="","",Input!H19) -> 221.25595 | F17: =IF(B17<>"",E17-D17,"") -> -97.344329 | G17: =IF(B17="","",IF(D17<>0,(F17/D17)*100,"n.a.")) -> -30.553749 | J17: =IF(Input!E19="","",Input!E19) -> 52 | K17: =IF(Input!F19="","",Input!F19) -> Finance and Insurance | L17: =IF(Input!L19="","",Input!L19) -> 5886602 | M17: =IF(Input!M19="","",Input!M19) -> 6063761 | N17: =IF(J17<>"",M17-L17,"") -> 177159 | O17: =IF(J17="","",IF(L17<>0,(N17/L17)*100,"n.a.")) -> 3.0095291
B18: =IF(Input!E20="","",Input!E20) -> 53 | C18: =IF(Input!F20="","",Input!F20) -> Real Estate and Rental and Leasing | D18: =IF(Input!G20="","",Input!G20) -> 182.47107 | E18: =IF(Input!H20="","",Input!H20) -> 215.45885 | F18: =IF(B18<>"",E18-D18,"") -> 32.987782 | G18: =IF(B18="","",IF(D18<>0,(F18/D18)*100,"n.a.")) -> 18.078363 | J18: =IF(Input!E20="","",Input!E20) -> 53 | K18: =IF(Input!F20="","",Input!F20) -> Real Estate and Rental and Leasing | L18: =IF(Input!L20="","",Input!L20) -> 1917640 | M18: =IF(Input!M20="","",Input!M20) -> 1972105 | N18: =IF(J18<>"",M18-L18,"") -> 54465 | O18: =IF(J18="","",IF(L18<>0,(N18/L18)*100,"n.a.")) -> 2.8402098
B19: =IF(Input!E21="","",Input!E21) -> 54 | C19: =IF(Input!F21="","",Input!F21) -> Professional, Scientific, and Technical Services | D19: =IF(Input!G21="","",Input!G21) -> 1600.725 | E19: =IF(Input!H21="","",Input!H21) -> 1317.8739 | F19: =IF(B19<>"",E19-D19,"") -> -282.85117 | G19: =IF(B19="","",IF(D19<>0,(F19/D19)*100,"n.a.")) -> -17.670191 | J19: =IF(Input!E21="","",Input!E21) -> 54 | K19: =IF(Input!F21="","",Input!F21) -> Professional, Scientific, and Technical Services | L19: =IF(Input!L21="","",Input!L21) -> 7929910 | M19: =IF(Input!M21="","",Input!M21) -> 8275350 | N19: =IF(J19<>"",M19-L19,"") -> 345440 | O19: =IF(J19="","",IF(L19<>0,(N19/L19)*100,"n.a.")) -> 4.3561655
... B37: =IF(Input!E39="","",Input!E39) | C37: =IF(Input!F39="","",Input!F39) | D37: =IF(Input!G39="","",Input!G39) | E37: =IF(Input!H39="","",Input!H39) | F37: =IF(B37<>"",E37-D37,"") | G37: =IF(B37="","",IF(D37<>0,(F37/D37)*100,"n.a.")) | J37: =IF(Input!E39="","",Input!E39) | K37: =IF(Input!F39="","",Input!F39) | L37: =IF(Input!L39="","",Input!L39) | M37: =IF(Input!M39="","",Input!M39) | N37: =IF(J37<>"",M37-L37,"") | O37: =IF(J37="","",IF(L37<>0,(N37/L37)*100,"n.a."))
B38: =Input!E40 -> --- | C38: Total | D38: =SUM(D8:D37) -> 12381 | E38: =SUM(E8:E37) -> 12257 | F38: =SUM(F8:F37) -> -124 | G38: =IF(B38="","",IF(D38<>0,(F38/D38)*100,"n.a.")) -> -1.0015346 | J38: =IF(Input!E40="","",Input!E40) -> --- | K38: =IF(Input!F40="","",Input!F40) -> Total | L38: =SUM(L8:L37) -> 113427241 | M38: =SUM(M8:M37) -> 118266253 | N38: =SUM(N8:N37) -> 4839012 | O38: =IF(J38="","",IF(L38<>0,(N38/L38)*100,"n.a.")) -> 4.2661815
B41: =label -> Shift-Share Analysis: Decatur Employment: 2011-2013
B43: NAICS Code | C43: NAICS Sector | D43: Reference Shift | E43: Industry Mix | F43: Local Shift | G43: Total Change
B44: i | D44: ="RS{i}^{"&first.year&","&second.year&"}" -> RS{i}^{2011,2013} | E44: ="IM{i}^{"&first.year&","&second.year&"}" -> IM{i}^{2011,2013} | F44: ="LS{i}^{"&first.year&","&second.year&"}" -> LS{i}^{2011,2013} | G44: ="Δx{i}^{"&first.year&","&second.year&"}" -> Δx{i}^{2011,2013}
B45: (1) | C45: (2) | D45: (3) | E45: (4) | F45: (5) | G45: (6)
B46: =IF(Input!E10="","",Input!E10) -> 11 | C46: =IF(Input!F10="","",Input!F10) -> Agriculture, Forstery, Fishing and Hunting | D46: =IF(B46="","",D8*($N$38/$L$38)) -> 0 | E46: =IF(B46="","",D8*((N8/L8)-(N$38/$L$38))) -> 0 | F46: =IF(B46="","",IF(D8=0,0,D8*((F8/D8)-(N8/L8)))) -> 0 | G46: =IF(B46="","",SUM(D46:F46)) -> 0
B47: =IF(Input!E11="","",Input!E11) -> 21 | C47: =IF(Input!F11="","",Input!F11) -> Mining, Quarrying, and Oil and Gas Extraction | D47: =IF(B47="","",D9*($N$38/$L$38)) -> 0 | E47: =IF(B47="","",D9*((N9/L9)-(N$38/$L$38))) -> 0 | F47: =IF(B47="","",IF(D9=0,0,D9*((F9/D9)-(N9/L9)))) -> 0 | G47: =IF(B47="","",SUM(D47:F47)) -> 0
B48: =IF(Input!E12="","",Input!E12) -> 22 | C48: =IF(Input!F12="","",Input!F12) -> Utilties | D48: =IF(B48="","",D10*($N$38/$L$38)) -> 0.28831656 | E48: =IF(B48="","",D10*((N10/L10)-(N$38/$L$38))) -> -0.30120348 | F48: =IF(B48="","",IF(D10=0,0,D10*((F10/D10)-(N10/L10)))) -> 0.017981509 | G48: =IF(B48="","",SUM(D48:F48)) -> 0.0050945856
B49: =IF(Input!E13="","",Input!E13) -> 23 | C49: =IF(Input!F13="","",Input!F13) -> Construction | D49: =IF(B49="","",D11*($N$38/$L$38)) -> 11.038405 | E49: =IF(B49="","",D11*((N11/L11)-(N$38/$L$38))) -> 2.881341 | F49: =IF(B49="","",IF(D11=0,0,D11*((F11/D11)-(N11/L11)))) -> -21.454162 | G49: =IF(B49="","",SUM(D49:F49)) -> -7.5344157
B50: =IF(Input!E14="","",Input!E14) -> 31 | C50: =IF(Input!F14="","",Input!F14) -> Manufacturing | D50: =IF(B50="","",D12*($N$38/$L$38)) -> 12.315236 | E50: =IF(B50="","",D12*((N12/L12)-(N$38/$L$38))) -> -4.6393949 | F50: =IF(B50="","",IF(D12=0,0,D12*((F12/D12)-(N12/L12)))) -> 71.768793 | G50: =IF(B50="","",SUM(D50:F50)) -> 79.444633
B51: =IF(Input!E15="","",Input!E15) -> 42 | C51: =IF(Input!F15="","",Input!F15) -> Wholesale Trade | D51: =IF(B51="","",D13*($N$38/$L$38)) -> 6.0958358 | E51: =IF(B51="","",D13*((N13/L13)-(N$38/$L$38))) -> 1.0769423 | F51: =IF(B51="","",IF(D13=0,0,D13*((F13/D13)-(N13/L13)))) -> 690.5192 | G51: =IF(B51="","",SUM(D51:F51)) -> 697.69198
B52: =IF(Input!E16="","",Input!E16) -> 44 | C52: =IF(Input!F16="","",Input!F16) -> Retail Trade | D52: =IF(B52="","",D14*($N$38/$L$38)) -> 61.081922 | E52: =IF(B52="","",D14*((N14/L14)-(N$38/$L$38))) -> -29.44362 | F52: =IF(B52="","",IF(D14=0,0,D14*((F14/D14)-(N14/L14)))) -> -628.62638 | G52: =IF(B52="","",SUM(D52:F52)) -> -596.98807
B53: =IF(Input!E17="","",Input!E17) -> 48 | C53: =IF(Input!F17="","",Input!F17) -> Transportation and Warehousing | D53: =IF(B53="","",D15*($N$38/$L$38)) -> 6.3841524 | E53: =IF(B53="","",D15*((N15/L15)-(N$38/$L$38))) -> 0.20744003 | F53: =IF(B53="","",IF(D15=0,0,D15*((F15/D15)-(N15/L15)))) -> -73.145424 | G53: =IF(B53="","",SUM(D53:F53)) -> -66.553832
B54: =IF(Input!E18="","",Input!E18) -> 51 | C54: =IF(Input!F18="","",Input!F18) -> Information | D54: =IF(B54="","",D16*($N$38/$L$38)) -> 5.7663312 | E54: =IF(B54="","",D16*((N16/L16)-(N$38/$L$38))) -> 0.50257756 | F54: =IF(B54="","",IF(D16=0,0,D16*((F16/D16)-(N16/L16)))) -> 222.8184 | G54: =IF(B54="","",SUM(D54:F54)) -> 229.08731
B55: =IF(Input!E19="","",Input!E19) -> 52 | C55: =IF(Input!F19="","",Input!F19) -> Finance and Insurance | D55: =IF(B55="","",D17*($N$38/$L$38)) -> 13.592066 | E55: =IF(B55="","",D17*((N17/L17)-(N$38/$L$38))) -> -4.0036982 | F55: =IF(B55="","",IF(D17=0,0,D17*((F17/D17)-(N17/L17)))) -> -106.9327 | G55: =IF(B55="","",SUM(D55:F55)) -> -97.344329
B56: =IF(Input!E20="","",Input!E20) -> 53 | C56: =IF(Input!F20="","",Input!F20) -> Real Estate and Rental and Leasing | D56: =IF(B56="","",D18*($N$38/$L$38)) -> 7.7845471 | E56: =IF(B56="","",D18*((N18/L18)-(N$38/$L$38))) -> -2.6019858 | F56: =IF(B56="","",IF(D18=0,0,D18*((F18/D18)-(N18/L18)))) -> 27.805221 | G56: =IF(B56="","",SUM(D56:F56)) -> 32.987782
B57: =IF(Input!E21="","",Input!E21) -> 54 | C57: =IF(Input!F21="","",Input!F21) -> Professional, Scientific, and Technical Services | D57: =IF(B57="","",D19*($N$38/$L$38)) -> 68.289836 | E57: =IF(B57="","",D19*((N19/L19)-(N$38/$L$38))) -> 1.4403953 | F57: =IF(B57="","",IF(D19=0,0,D19*((F19/D19)-(N19/L19)))) -> -352.5814 | G57: =IF(B57="","",SUM(D57:F57)) -> -282.85117
... B75: =IF(Input!E39="","",Input!E39) | C75: =IF(Input!F39="","",Input!F39) | D75: =IF(B75="","",D37*($N$38/$L$38)) | E75: =IF(B75="","",D37*((N37/L37)-(N$38/$L$38))) | F75: =IF(B75="","",IF(D37=0,0,D37*((F37/D37)-(N37/L37)))) | G75: =IF(B75="","",SUM(D75:F75))
B76: --- | C76: Total | D76: =SUM(D46:D75) -> 528.19593 | E76: =SUM(E46:E75) -> -15.514961 | F76: =SUM(F46:F75) -> -636.68097 | G76: =SUM(G46:G75) -> -124
C79: ="RS{"&B60&"}^{"&first.year&","&second.year&"} =" -> RS{61}^{2011,2013} = | D79: ="x{"&B60&"}^"&first.year&" X ( "&delta&"X{T}^{"&first.year&","&second.year&"} / X{T}^"&first.year&"} )" -> x{61}^2011 X ( ΔX{T}^{2011,2013} / X{T}^2011} )
C80: = | D80: =TEXT($D$22,"#,###")&" X ( "&TEXT($N$38,"#,###")& " / "&TEXT($L$38,"#,###")&" )" -> 1,545 X ( 4,839,012 / 113,427,241 )
C81: = | D81: =$D$22*($N$38/$L$38) -> 65.900928
C83: ="IM{"&B60&"}^{"&first.year&","&second.year&"} =" -> IM{61}^{2011,2013} = | D83: ="x{"&B60&"}^"&first.year&" X [ ( "&delta&"X{"&B60&"}^{"&first.year&","&second.year&"} / X{"&B60&"}^"&first.year&"} ) - ( "&delta&"X{T}^{"&first.year&","&second.year&"} / X{T}^"&first.year&"} ) ]" -> x{61}^2011 X [ ( ΔX{61}^{2011,2013} / X{61}^2011} ) - ( ΔX{T}^{2011,2013} / X{T}^2011} ) ]
C84: = | D84: =TEXT($D$22,"#,###")&" X [ ( "&TEXT(N22,"#,###")&" / "&TEXT(L22,"#,###")&" ) - ( "&TEXT($N$38,"#,###")& " / "&TEXT($L$38,"#,###")&" ) ]" -> 1,545 X [ ( 127,422 / 3,386,047 ) - ( 4,839,012 / 113,427,241 ) ]
C85: = | D85: =D22*((N22/L22)-(N38/L38)) -> -7.7704846
C87: ="LS{"&B60&"}^{"&first.year&","&second.year&"} =" -> LS{61}^{2011,2013} = | D87: ="x^{"&B60&"}"&first.year&" X [ ( "&delta&"x{"&B60&"}^{"&first.year&","&second.year&"} / x{"&B60&"}^"&first.year&"} ) - ( "&delta&"X{"&B60&"}^{"&first.year&","&second.year&"} / X{"&B60&"}^"&first.year&"} ) ]" -> x^{61}2011 X [ ( Δx{61}^{2011,2013} / x{61}^2011} ) - ( ΔX{61}^{2011,2013} / X{61}^2011} ) ]
C88: = | D88: =TEXT($D$22,"#,###")&" X [ ( "&TEXT($F$22,"#,###")&" /"&TEXT($D$22,"#,###")& " ) - ("&TEXT($N$22,"#,###")&" / "&TEXT($L$22,"#,###")&" ) ]" -> 1,545 X [ ( 113 /1,545 ) - (127,422 / 3,386,047 ) ]
C89: = | D89: =$D$22*(($F$22/$D$22)-($N$22/$L$22)) -> 55.111284

Sheet Output
B2: =label -> Shift-Share Analysis: Decatur Employment: 2011-2013
B4: =Computations!B43 -> NAICS Code | C4: =Computations!C43 -> NAICS Sector | D4: =Computations!D43 -> Reference Shift | E4: =Computations!E43 -> Industry Mix | F4: =Computations!F43 -> Local Shift | G4: =Computations!G43 -> Total Change
B5: =Computations!B45 -> (1) | C5: =Computations!C45 -> (2) | D5: =Computations!D45 -> (3) | E5: =Computations!E45 -> (4) | F5: =Computations!F45 -> (5) | G5: =Computations!G45 -> (6)
B6: =Computations!B46 -> 11 | C6: =Computations!C46 -> Agriculture, Forstery, Fishing and Hunting | D6: =Computations!D46 -> 0 | E6: =Computations!E46 -> 0 | F6: =Computations!F46 -> 0 | G6: =Computations!G46 -> 0
B7: =Computations!B47 -> 21 | C7: =Computations!C47 -> Mining, Quarrying, and Oil and Gas Extraction | D7: =Computations!D47 -> 0 | E7: =Computations!E47 -> 0 | F7: =Computations!F47 -> 0 | G7: =Computations!G47 -> 0
B8: =Computations!B48 -> 22 | C8: =Computations!C48 -> Utilties | D8: =Computations!D48 -> 0.28831656 | E8: =Computations!E48 -> -0.30120348 | F8: =Computations!F48 -> 0.017981509 | G8: =Computations!G48 -> 0.0050945856
B9: =Computations!B49 -> 23 | C9: =Computations!C49 -> Construction | D9: =Computations!D49 -> 11.038405 | E9: =Computations!E49 -> 2.881341 | F9: =Computations!F49 -> -21.454162 | G9: =Computations!G49 -> -7.5344157
B10: =Computations!B50 -> 31 | C10: =Computations!C50 -> Manufacturing | D10: =Computations!D50 -> 12.315236 | E10: =Computations!E50 -> -4.6393949 | F10: =Computations!F50 -> 71.768793 | G10: =Computations!G50 -> 79.444633
B11: =Computations!B51 -> 42 | C11: =Computations!C51 -> Wholesale Trade | D11: =Computations!D51 -> 6.0958358 | E11: =Computations!E51 -> 1.0769423 | F11: =Computations!F51 -> 690.5192 | G11: =Computations!G51 -> 697.69198
B12: =Computations!B52 -> 44 | C12: =Computations!C52 -> Retail Trade | D12: =Computations!D52 -> 61.081922 | E12: =Computations!E52 -> -29.44362 | F12: =Computations!F52 -> -628.62638 | G12: =Computations!G52 -> -596.98807
B13: =Computations!B53 -> 48 | C13: =Computations!C53 -> Transportation and Warehousing | D13: =Computations!D53 -> 6.3841524 | E13: =Computations!E53 -> 0.20744003 | F13: =Computations!F53 -> -73.145424 | G13: =Computations!G53 -> -66.553832
B14: =Computations!B54 -> 51 | C14: =Computations!C54 -> Information | D14: =Computations!D54 -> 5.7663312 | E14: =Computations!E54 -> 0.50257756 | F14: =Computations!F54 -> 222.8184 | G14: =Computations!G54 -> 229.08731
B15: =Computations!B55 -> 52 | C15: =Computations!C55 -> Finance and Insurance | D15: =Computations!D55 -> 13.592066 | E15: =Computations!E55 -> -4.0036982 | F15: =Computations!F55 -> -106.9327 | G15: =Computations!G55 -> -97.344329
B16: =Computations!B56 -> 53 | C16: =Computations!C56 -> Real Estate and Rental and Leasing | D16: =Computations!D56 -> 7.7845471 | E16: =Computations!E56 -> -2.6019858 | F16: =Computations!F56 -> 27.805221 | G16: =Computations!G56 -> 32.987782
... B36: =Computations!B76 -> --- | C36: =Computations!C76 -> Total | D36: =Computations!D76 -> 528.19593 | E36: =Computations!E76 -> -15.514961 | F36: =Computations!F76 -> -636.68097 | G36: =Computations!G76 -> -124
B39: =Computations!B2 -> Employment and Employment Change: Decatur , 2011-2013
B41: =Computations!B4 -> NAICS Code | C41: =Computations!C4 -> NAICS Sector | D41: =Computations!D4 -> Employment | F41: =Computations!F4 -> Change
D42: =Computations!D5 -> 2011 | E42: =Computations!E5 -> 2013 | F42: =Computations!F5 -> Number | G42: =Computations!G5 -> Percent
B43: =Computations!B7 -> (1) | C43: =Computations!C7 -> (2) | D43: =Computations!D7 -> (3) | E43: =Computations!E7 -> (4) | F43: =Computations!F7 -> (5) | G43: =Computations!G7 -> (6)
B44: =Computations!B8 -> 11 | C44: =Computations!C8 -> Agriculture, Forstery, Fishing and Hunting | D44: =Computations!D8 -> 0 | E44: =Computations!E8 -> 0 | F44: =Computations!F8 -> 0 | G44: =Computations!G8 -> n.a.
B45: =Computations!B9 -> 21 | C45: =Computations!C9 -> Mining, Quarrying, and Oil and Gas Extraction | D45: =Computations!D9 -> 0 | E45: =Computations!E9 -> 0 | F45: =Computations!F9 -> 0 | G45: =Computations!G9 -> n.a.
B46: =Computations!B10 -> 22 | C46: =Computations!C10 -> Utilties | D46: =Computations!D10 -> 6.7581878 | E46: =Computations!E10 -> 6.7632824 | F46: =Computations!F10 -> 0.0050945856 | G46: =Computations!G10 -> 0.075383901
B47: =Computations!B11 -> 23 | C47: =Computations!C11 -> Construction | D47: =Computations!D11 -> 258.74205 | E47: =Computations!E11 -> 251.20763 | F47: =Computations!F11 -> -7.5344157 | G47: =Computations!G11 -> -2.911941
B48: =Computations!B12 -> 31 | C48: =Computations!C12 -> Manufacturing | D48: =Computations!D12 -> 288.67116 | E48: =Computations!E12 -> 368.1158 | F48: =Computations!F12 -> 79.444633 | G48: =Computations!G12 -> 27.520807
B49: =Computations!B13 -> 42 | C49: =Computations!C13 -> Wholesale Trade | D49: =Computations!D13 -> 142.8874 | E49: =Computations!E13 -> 840.57938 | F49: =Computations!F13 -> 697.69198 | G49: =Computations!G13 -> 488.28097
B50: =Computations!B14 -> 44 | C50: =Computations!C14 -> Retail Trade | D50: =Computations!D14 -> 1431.7704 | E50: =Computations!E14 -> 834.78228 | F50: =Computations!F14 -> -596.98807 | G50: =Computations!G14 -> -41.695798
B51: =Computations!B15 -> 48 | C51: =Computations!C15 -> Transportation and Warehousing | D51: =Computations!D15 -> 149.64559 | E51: =Computations!E15 -> 83.091755 | F51: =Computations!F15 -> -66.553832 | G51: =Computations!G15 -> -44.474303
B52: =Computations!B16 -> 51 | C52: =Computations!C16 -> Information | D52: =Computations!D16 -> 135.16376 | E52: =Computations!E16 -> 364.25106 | F52: =Computations!F16 -> 229.08731 | G52: =Computations!G16 -> 169.48871
B53: =Computations!B17 -> 52 | C53: =Computations!C17 -> Finance and Insurance | D53: =Computations!D17 -> 318.60028 | E53: =Computations!E17 -> 221.25595 | F53: =Computations!F17 -> -97.344329 | G53: =Computations!G17 -> -30.553749
B54: =Computations!B18 -> 53 | C54: =Computations!C18 -> Real Estate and Rental and Leasing | D54: =Computations!D18 -> 182.47107 | E54: =Computations!E18 -> 215.45885 | F54: =Computations!F18 -> 32.987782 | G54: =Computations!G18 -> 18.078363
... B74: =Computations!B38 -> --- | C74: =Computations!C38 -> Total | D74: =Computations!D38 -> 12381 | E74: =Computations!E38 -> 12257 | F74: =Computations!F38 -> -124 | G74: =Computations!G38 -> -1.0015346
B77: =Computations!J2 -> Employment and Employment Change: United States, 2011-2013
B79: =Computations!J4 -> NAICS Code | C79: =Computations!K4 -> NAICS Sector | D79: =Computations!L4 -> Employment | F79: =Computations!N4 -> Change
D80: =Computations!L5 -> 2011 | E80: =Computations!M5 -> 2013 | F80: =Computations!N5 -> Number | G80: =Computations!O5 -> Percent
B81: =Computations!J7 -> (1) | C81: =Computations!K7 -> (2) | D81: =Computations!L7 -> (3) | E81: =Computations!M7 -> (4) | F81: =Computations!N7 -> (5) | G81: =Computations!O7 -> (6)
B82: =Computations!J8 -> 11 | C82: =Computations!K8 -> Agriculture, Forstery, Fishing and Hunting | D82: =Computations!L8 -> 156520 | E82: =Computations!M8 -> 154496 | F82: =Computations!N8 -> -2024 | G82: =Computations!O8 -> -1.2931255
B83: =Computations!J9 -> 21 | C83: =Computations!K9 -> Mining, Quarrying, and Oil and Gas Extraction | D83: =Computations!L9 -> 651204 | E83: =Computations!M9 -> 732186 | F83: =Computations!N9 -> 80982 | G83: =Computations!O9 -> 12.435734
B84: =Computations!J10 -> 22 | C84: =Computations!K10 -> Utilties | D84: =Computations!L10 -> 639795 | E84: =Computations!M10 -> 638575 | F84: =Computations!N10 -> -1220 | G84: =Computations!O10 -> -0.19068608
B85: =Computations!J11 -> 23 | C85: =Computations!K11 -> Construction | D85: =Computations!L11 -> 5190921 | E85: =Computations!M11 -> 5470181 | F85: =Computations!N11 -> 279260 | G85: =Computations!O11 -> 5.3797775
B86: =Computations!J12 -> 31 | C86: =Computations!K12 -> Manufacturing | D86: =Computations!L12 -> 10984361 | E86: =Computations!M12 -> 11276438 | F86: =Computations!N12 -> 292077 | G86: =Computations!O12 -> 2.6590259
B87: =Computations!J13 -> 42 | C87: =Computations!K13 -> Wholesale Trade | D87: =Computations!L13 -> 5626328 | E87: =Computations!M13 -> 5908763 | F87: =Computations!N13 -> 282435 | G87: =Computations!O13 -> 5.0198815
B88: =Computations!J14 -> 44 | C88: =Computations!K14 -> Retail Trade | D88: =Computations!L14 -> 14698563 | E88: =Computations!M14 -> 15023362 | F88: =Computations!N14 -> 324799 | G88: =Computations!O14 -> 2.209733
B89: =Computations!J15 -> 48 | C89: =Computations!K15 -> Transportation and Warehousing | D89: =Computations!L15 -> 4106359 | E89: =Computations!M15 -> 4287236 | F89: =Computations!N15 -> 180877 | G89: =Computations!O15 -> 4.4048024
B90: =Computations!J16 -> 51 | C90: =Computations!K16 -> Information | D90: =Computations!L16 -> 3121317 | E90: =Computations!M16 -> 3266084 | F90: =Computations!N16 -> 144767 | G90: =Computations!O16 -> 4.6380102
B91: =Computations!J17 -> 52 | C91: =Computations!K17 -> Finance and Insurance | D91: =Computations!L17 -> 5886602 | E91: =Computations!M17 -> 6063761 | F91: =Computations!N17 -> 177159 | G91: =Computations!O17 -> 3.0095291
B92: =Computations!J18 -> 53 | C92: =Computations!K18 -> Real Estate and Rental and Leasing | D92: =Computations!L18 -> 1917640 | E92: =Computations!M18 -> 1972105 | F92: =Computations!N18 -> 54465 | G92: =Computations!O18 -> 2.8402098
... B112: =Computations!J38 -> --- | C112: =Computations!K38 -> Total | D112: =Computations!L38 -> 113427241 | E112: =Computations!M38 -> 118266253 | F112: =Computations!N38 -> 4839012 | G112: =Computations!O38 -> 4.2661815
