Workbook
Name adjust: Computations!$K$13
Name adjust.label: Input!$C$16
Name adjusted.share.of.change: Computations!$B$339
Name area: Input!#REF!
Name b: #REF!
Name base: Computations!$K$17
Name base.year: Input!$C$13
Name component: Input!#REF!
Name constant.share: Computations!#REF!
Name constant.share.projections: Computations!$B$37
Name crv.computations: #REF!
Name delta: Computations!$K$21
Name first.year: Input!#REF!
Name geometric.estimates: #REF!
Name geometric.paramters: #REF!
Name gompertz.lower.limit: #REF!
Name gompertz.upper.limit: #REF!
Name input.data: Input!$B$2
Name interval.obs: Input!$C$18
Name interval.proj: Input!#REF!
Name l: #REF!
Name label: Input!$C$4
Name last.year: Input!#REF!
Name launch: Computations!$K$18
Name launch.year: Input!$C$14
Name limit: Input!$C$19
Name linear.estimates: #REF!
Name linear.parameters: #REF!
Name logist.parameters: #REF!
Name logistic.estimates: #REF!
Name mape.maple.computations: #REF!
Name mod.expon.lower.limit: #REF!
Name mod.expon.upper.limit: #REF!
Name N: #REF!
Name N.odd: #REF!
Name One: #REF!
Name one.analysis: Computations!$K$15
Name one.refer: Computations!$K$16
Name one.refrnce: Computations!#REF!
Name one.sub: Computations!#REF!
Name P.base: Computations!#REF!
Name P.launch: Computations!#REF!
Name P.target: Computations!#REF!
Name p1.base: Computations!#REF!
Name p1.launch: Computations!#REF!
Name p1.target: Computations!#REF!
Name parabobolic.paramters: #REF!
Name parabolic.estimates: #REF!
Name plus.minus.adjustment: Computations!$B$288
Name projected.shift: Computations!$B$83
Name refence.component: Input!#REF!
Name refer.area: Input!$C$9
Name refer.label: Input!$C$11
Name s.trend: Computations!$K$26
Name share.of.change: Computations!$B$166
Name share.of.change.projection: Computations!$B$204
Name share.trend: Computations!#REF!
Name share.trend.projection: Computations!$B$274
Name shift.share: Computations!#REF!
Name shift.share.projections: Computations!$B$124

Sheet Documentation
A1: Share Projection_1.03.xlsx
A3: The Share Projection workbook implements the share projection methods described in Chapter 4 and pages 152 through 161 of Richard E. Klosterman, Kerry Brooks, Joshua Drucker, Edward Feser, and Henry Renski. Planning Support Methods: Urban and Regional Analysis and Projection (Rowman and Littlefield: 2018). The workbook is distributed with population and employment data for the City of Decatur and DeKalb County, Georgia, that are used in these sections of the Planning Support Methods text.
A4: Further information on the book is available at: | B4: https://planningsupport.org/
A6: The workbook was developed by Richard Klosterman. Questions and comments can be sent to: | B6: mailto:dick.klosterman@gmail.com
A8: Contents
A10: The Share Projection workbook has five worksheets:
A12: (1) Documentation describes the Share workbook, procedures for using it, the required inputs, and the outputs.
A14: (2) Input is used to enter the share projection parameters and observed data. Portions of the worksheet are projected and cannot be modified by users.
A16: (3) Sample Data contains the data for the City of Decatur and DeKalb County that were used in the Planning Support Methods text. The information in the blue shaded cells can be copied to the Input worksheet to duplicate the analyses in the text. The worksheet is protected and cannot be modified by users.
A18: The data in the 'Share Projections for One Area' section were used on pages 61 to 66 of the text.
A20: The data in the 'Share Projections for Multiple Areas' section were used on pages 66 to 75 of the text.
A22: The data in the 'Unadjusted Employment Share Projections' section were used on pages 152 to 158 of the text.
A24: The data in the 'Adjusted Employment Share Projections' section were used on pages 158 to 159 of the text.
A26: (4) Calculation computes the share projections. The worksheet is protected and cannot be modified by users.
A28: (5) Output reports the observed data and the share projections. The worksheet is protected and cannot be modified by users.
A30: Inputs and Procedures
... A64: The lower table reports the following target year projections and projected growth rates for multiple study areas and the adjusted and unadjusted study area employment : constant-share, shift-share, share-of-change, and adjusted-share-of-change.

Sheet Input
B3: Share Projection Input Data
B4: Label = | C4: =IF(one.analysis,"Share Projections: "&study.area&" "&variable&", "&target,IF(one.refer,"Share Projections: "&refer.area&" "&study.area&" "&variable&", "&target, IF(adjust=1,"Share Projections: "&study.area&" "&variable&", "&target,"Adjusted Share Projections: "&study.area&" "&variable&", "&target))) -> Share Projections: Decatur Population, 2040
E6: Study Area Component(s) | I6: Reference Area Component(s) | O6: =IF(one.refer,"",variable&" Adjustment")
B8: Study Area(s) = | C8: Decatur | E8: =study.label -> City | F8: =IF(one.refer,variable,study.area&" "&variable) -> Population | I8: =refer.label -> County | J8: =IF(one.refer,variable,refer.area&" "&variable) -> Population | M8: Share Trend | O8: =IF(adjust.label="","","Area") | P8: =IF(adjust.label="","",adjust.label)
B9: Reference Area = | C9: DeKalb County | F9: =base.year -> 2000 | G9: =launch.year -> 2010 | J9: =base.year -> 2000 | K9: =launch.year -> 2010 | L9: =target.year -> 2040 | M9: =TEXT(launch.year,0)&"-"&TEXT(target.year,0) -> 2010-2040 | P9: =IF(adjust.label="","",launch.year) | Q9: =IF(adjust.label="","",target.year)
B10: Study Area Heading = | C10: City | E10: (1) | F10: (2) | G10: (3) | I10: (1) | J10: (2) | K10: (3) | L10: (4) | M10: (5) | O10: (1) | P10: (2) | Q10: (3)
B11: Reference Area Heading = | C11: County | E11: Decatur | F11: 18147 | G11: 19335 | I11: DeKalb County | J11: 665865 | K11: 691893 | L11: 881851 | M11: 0.0229 | O11: =IF(adjust.label="","",study.area)
B12: Variable = | C12: Population | O12: =IF(adjust.label="","",refer.area)
B13: Base Year = | C13: 2000
B14: Launch Year = | C14: 2010
B15: Target Year = | C15: 2040
B16: Adjustment Factor =
E36: Total | F36: =SUM(F11:F35) -> 18147 | G36: =SUM(G11:G35) -> 19335 | I36: Total | J36: =SUM(J11:J35) -> 665865 | K36: =SUM(K11:K35) -> 691893 | L36: =SUM(L11:L35) -> 881851 | M36: ---

Sheet Sample Data
B4: Share Projections for One Area
B6: Label = | C6: Share Projections: Decatur Population, 2040
E8: Study Area Component(s) | I8: Reference Area Component(s) | O8: Employment Adjustment
B10: Study Area(s) = | C10: Decatur | E10: City | F10: Population | I10: County | J10: Population | M10: Share Trend
B11: Reference Area = | C11: DeKalb County | F11: 2000 | G11: 2010 | J11: 2000 | K11: 2010 | L11: 2040 | M11: 2010-2040
B12: Study Area Heading = | C12: City | E12: (1) | F12: (2) | G12: (3) | I12: (1) | J12: (2) | K12: (3) | L12: (4) | M12: (5) | O12: (1) | P12: (2) | Q12: (3)
B13: Reference Area Heading = | C13: County | E13: Decatur | F13: 18147 | G13: 19335 | I13: DeKalb County | J13: 665865 | K13: 691893 | L13: 881851 | M13: 0.0229
B14: Variable = | C14: Population
B15: Base Year = | C15: 2000
B16: Launch Year = | C16: 2010
B17: Target Year = | C17: 2040
B18: Adjustment Factor =
E38: Total | F38: =SUM(F13:F37) -> 18147 | G38: =SUM(G13:G37) -> 19335 | I38: Total | J38: =SUM(J13:J37) -> 665865 | K38: =SUM(K13:K37) -> 691893 | L38: =SUM(L13:L37) -> 881851 | M38: ---
B43: Share Projections for Multiple Areas
B45: Label = | C45: Share Projections: Decatur Block Group Population, 2040
E47: Study Area Component(s) | I47: Reference Area Component(s) | O47: Employment Adjustment
B49: Study Area(s) = | C49: Block Group | E49: Block Group | F49: =IF(one.refer,variable,study.area&" "&variable) -> Population | I49: =refer.label -> County | J49: =IF(one.refer,variable,study.area&" "&variable) -> Population | M49: Share Trend
B50: Reference Area = | C50: Decatur | F50: 2000 | G50: 2010 | J50: =base.year -> 2000 | K50: =launch.year -> 2010 | L50: =target.year -> 2040 | M50: =TEXT(launch.year,0)&"-"&TEXT(target.year,0) -> 2010-2040
B51: Study Area Heading = | C51: Block Group | E51: (1) | F51: (2) | G51: (3) | I51: (1) | J51: (2) | K51: (3) | L51: (4) | M51: (5) | O51: (1) | P51: (2) | Q51: (3)
B52: Reference Area Heading = | C52: City | E52: 225.1 | F52: 1559 | G52: 1665 | I52: Decatur | J52: 18093 | K52: 19237 | L52: 24501
B53: Variable = | C53: Population | E53: 225.2 | F53: 1061 | G53: 1046
B54: Base Year = | C54: 2000 | E54: 224.5 | F54: 1221 | G54: 1232
B55: Launch Year = | C55: 2010 | E55: 225.4 | F55: 1353 | G55: 1418
B56: Target Year = | C56: 2040 | E56: 226.1 | F56: 1876 | G56: 2001
B57: Adjustment Factor = | E57: 226.2 | F57: 1269 | G57: 1738
E58: 226.3 | F58: 1936 | G58: 2056
E59: 227.1 | F59: 1469 | G59: 1532
E60: 227.2 | F60: 1187 | G60: 1151
E61: 227.3 | F61: 1424 | G61: 1750
E62: 228.1 | F62: 1091 | G62: 871
E63: 228.2 | F63: 1504 | G63: 1481
E64: 228.3 | F64: 1143 | G64: 1296
E77: Total | F77: =SUM(F52:F76) -> 18093 | G77: =SUM(G52:G76) -> 19237 | I77: Total | J77: =SUM(J52:J76) -> 18093 | K77: =SUM(K52:K76) -> 19237 | L77: =SUM(L52:L76) -> 24501 | M77: ---
B82: Unadjusted Employment Share Projections
B84: Label = | C84: Share Projections: Decatur Employment, 2022
E86: Study Area Component(s) | I86: Reference Area Component(s) | O86: Employment Adjustment
B88: Study Area(s) = | C88: Decatur | E88: NAICS Code | F88: Decatur Employment | I88: NAICS Code | J88: DeKalb County Employment | M88: Share Trend
B89: Reference Area = | C89: DeKalb County | F89: 2009 | G89: 2013 | J89: 2009 | K89: 2013 | L89: 2022 | M89: 2013-2022
B90: Study Area Heading = | C90: NAICS Code | E90: (1) | F90: (2) | G90: (3) | I90: (1) | J90: (2) | K90: (3) | L90: (4) | M90: (5) | O90: (1) | P90: (2) | Q90: (3)
B91: Reference Area Heading = | C91: NAICS Code | E91: 54 | F91: 1331.0602 | G91: 1317.8739 | I91: 54 | J91: 18012 | K91: 18941 | L91: 21670 | M91: 0.088
B92: Variable = | C92: Employment | E92: 61 | F92: 1551.6467 | G92: 1657.9704 | I92: 61 | J92: 21135 | K92: 22254 | L92: 40750 | M92: 0.079
B93: Base Year = | C93: 2009 | E93: 62 | F93: 2874.2228 | G93: 2578.7429 | I93: 62 | J93: 39988 | K93: 38691 | L93: 45440 | M93: 0.053
B94: Launch Year = | C94: 2013 | E94: 72 | F94: 1395.1622 | G94: 1641.5452 | I94: 72 | J94: 22463 | K94: 24821 | L94: 21170 | M94: 0.094
B95: Target Year = | C95: 2022 | E95: Other | F95: 4671.9082 | G95: 5060.8676 | I95: Other | J95: 157930 | K95: 155487 | L95: 207310 | M95: 0.04
B96: Adjustment Factor =
E116: Total | F116: =SUM(F91:F115) -> 11824 | G116: =SUM(G91:G115) -> 12257 | I116: Total | J116: =SUM(J91:J115) -> 259528 | K116: =SUM(K91:K115) -> 260194 | L116: =SUM(L91:L115) -> 336340 | M116: ---
B121: Adjusted Employment Share Projections
B123: Label = | C123: Adjusted Share Projections: Decatur Employment, 2022
E125: Study Area(s) | I125: Reference Area | O125: Employment Adjustment
B127: Study Area(s) = | C127: Decatur | E127: NAICS Code | F127: Decatur Employment | I127: NAICS Code | J127: DeKalb County Employment | M127: Share Trend | O127: Area | P127: Per Capita Income
B128: Reference Area = | C128: DeKalb County | F128: 2009 | G128: 2013 | J128: 2009 | K128: 2013 | L128: 2022 | M128: 2013-2022 | P128: 2013 | Q128: 2022
B129: Study Area Heading = | C129: NAICS Code | E129: (1) | F129: (2) | G129: (3) | I129: (1) | J129: (2) | K129: (3) | L129: (4) | M129: (5) | O129: (1) | P129: (2) | Q129: (3)
B130: Reference Area Heading = | C130: NAICS Code | E130: 54 | F130: 1331.0602 | G130: 1317.8739 | I130: 54 | J130: 18012 | K130: 18941 | L130: 21670 | M130: 0.088 | O130: Decatur | P130: 43032 | Q130: 53542
B131: Variable = | C131: Employment | E131: 61 | F131: 1551.6467 | G131: 1657.9704 | I131: 61 | J131: 21135 | K131: 22254 | L131: 40750 | M131: 0.079 | O131: DeKalb County | P131: 28971 | Q131: 33060
B132: Base Year = | C132: 2009 | E132: 62 | F132: 2874.2228 | G132: 2578.7429 | I132: 62 | J132: 39988 | K132: 38691 | L132: 45440 | M132: 0.053
B133: Launch Year = | C133: 2013 | E133: 72 | F133: 1395.1622 | G133: 1641.5452 | I133: 72 | J133: 22463 | K133: 24821 | L133: 21170 | M133: 0.094
B134: Target Year = | C134: 2022 | E134: Other | F134: 4671.9082 | G134: 5060.8676 | I134: Other | J134: 157930 | K134: 155487 | L134: 207310 | M134: 0.04
B135: Adjustment Factor = | C135: Per Capita Income
E155: Total | F155: =SUM(F130:F154) -> 11824 | G155: =SUM(G130:G154) -> 12257 | I155: Total | J155: =SUM(J130:J154) -> 259528 | K155: =SUM(K130:K154) -> 260194 | L155: =SUM(L130:L154) -> 336340 | M155: ---

Sheet Computations
C2: =IF(one.refer,"",refer.area&" "&variable)
C4: =refer.label -> County | D4: =variable -> Population | G4: Share Trend | J4: Area | K4: =IF(adjust.label="","",adjust.label)
D5: ="X{i}^"&base.year -> X{i}^2000 | E5: ="X{i}^"&launch.year -> X{i}^2010 | F5: ="X{i}^"&target.year -> X{i}^2040 | K5: =IF(adjust.label="","",launch.year) | L5: =IF(adjust.label="","",target.year)
D6: =base.year -> 2000 | E6: =launch.year -> 2010 | F6: =target.year -> 2040 | G6: =TEXT(launch.year,0)&"-"&TEXT(target.year,0) -> 2010-2040 | J6: (1) | K6: (2) | L6: (3)
C7: (1) | D7: (2) | E7: (3) | F7: (4) | G7: (5) | J7: =IF(adjust.label="","",study.area) | K7: =IF(Input!P11="","",Input!P11) | L7: =IF(Input!Q11="","",Input!Q11)
C8: =Input!I11 -> DeKalb County | D8: =Input!J11 -> 665865 | E8: =Input!K11 -> 691893 | F8: =Input!L11 -> 881851 | G8: =IF(Input!M11="","",Input!M11) -> 0.0229 | J8: =IF(adjust.label="","",refer.area) | K8: =IF(Input!P12="","",Input!P12) | L8: =IF(Input!Q12="","",Input!Q12)
C9: =IF(Input!I12="","",Input!I12) | D9: =IF(Input!J12="","",Input!J12) | E9: =IF(Input!K12="","",Input!K12) | F9: =IF(Input!L12="","",Input!L12) | G9: =IF(Input!M12="","",Input!M12)
C10: =IF(Input!I13="","",Input!I13) | D10: =IF(Input!J13="","",Input!J13) | E10: =IF(Input!K13="","",Input!K13) | F10: =IF(Input!L13="","",Input!L13) | G10: =IF(Input!M13="","",Input!M13)
C11: =IF(Input!I14="","",Input!I14) | D11: =IF(Input!J14="","",Input!J14) | E11: =IF(Input!K14="","",Input!K14) | F11: =IF(Input!L14="","",Input!L14) | G11: =IF(Input!M14="","",Input!M14) | J11: =IF(one.refer,"","Adjustment = ") | K11: =IF(one.refer,"",IF(OR(L7="",L8=""),"","(fi^"&target&" / Fi^"&target&") / (fi^"&launch&"/ Fi^"&launch))
C12: =IF(Input!I15="","",Input!I15) | D12: =IF(Input!J15="","",Input!J15) | E12: =IF(Input!K15="","",Input!K15) | F12: =IF(Input!L15="","",Input!L15) | G12: =IF(Input!M15="","",Input!M15) | J12: =IF(one.refer,""," = ") | K12: =IF(one.refer,"",IF(OR($L$7="",$L$8=""),1,"("& TEXT($L$7,"#,###")&" /"&TEXT($L$8,"#,###")&") / (" &TEXT($K$7,"#,###")&"/ "&TEXT($K$8,"#,###")&")"))
J13: =IF(one.refer,""," = ") | K13: =IF(one.refer,"",IF(OR($L$7="",$L$8=""),1,($L$7/$L$8)/($K$7/$K$8)))
C14: =IF(Input!I17="","",Input!I17) | D14: =IF(Input!J17="","",Input!J17) | E14: =IF(Input!K17="","",Input!K17) | F14: =IF(Input!L17="","",Input!L17) | G14: =IF(Input!M17="","",Input!M17)
C15: =IF(Input!I18="","",Input!I18) | D15: =IF(Input!J18="","",Input!J18) | E15: =IF(Input!K18="","",Input!K18) | F15: =IF(Input!L18="","",Input!L18) | G15: =IF(Input!M18="","",Input!M18) | J15: one.analysis = | K15: =IF(COUNTA(Input!E11:'Input'!E35)= 1,TRUE,FALSE) -> TRUE
C16: =IF(Input!I19="","",Input!I19) | D16: =IF(Input!J19="","",Input!J19) | E16: =IF(Input!K19="","",Input!K19) | F16: =IF(Input!L19="","",Input!L19) | G16: =IF(Input!M19="","",Input!M19) | J16: one.refer = | K16: =IF(COUNTA(Input!I11:'Input'!I35)= 1,TRUE,FALSE) -> TRUE
C17: =IF(Input!I20="","",Input!I20) | D17: =IF(Input!J20="","",Input!J20) | E17: =IF(Input!K20="","",Input!K20) | F17: =IF(Input!L20="","",Input!L20) | G17: =IF(Input!M20="","",Input!M20) | J17: base = | K17: =TEXT(base.year,0) -> 2000
C18: =IF(Input!I21="","",Input!I21) | D18: =IF(Input!J21="","",Input!J21) | E18: =IF(Input!K21="","",Input!K21) | F18: =IF(Input!L21="","",Input!L21) | G18: =IF(Input!M21="","",Input!M21) | J18: launch = | K18: =TEXT(launch.year,0) -> 2010
C19: =IF(Input!I22="","",Input!I22) | D19: =IF(Input!J22="","",Input!J22) | E19: =IF(Input!K22="","",Input!K22) | F19: =IF(Input!L22="","",Input!L22) | G19: =IF(Input!M22="","",Input!M22) | J19: target = | K19: =TEXT(target.year,0) -> 2040
C20: =IF(Input!I23="","",Input!I23) | D20: =IF(Input!J23="","",Input!J23) | E20: =IF(Input!K23="","",Input!K23) | F20: =IF(Input!L23="","",Input!L23) | G20: =IF(Input!M23="","",Input!M23) | J20: x1.target = | K20: ="x{1}^"&target&" = " -> x{1}^2040 =
C21: =IF(Input!I24="","",Input!I24) | D21: =IF(Input!J24="","",Input!J24) | E21: =IF(Input!K24="","",Input!K24) | F21: =IF(Input!L24="","",Input!L24) | G21: =IF(Input!M24="","",Input!M24) | J21: delta = | K21: Δ
C22: =IF(Input!I25="","",Input!I25) | D22: =IF(Input!J25="","",Input!J25) | E22: =IF(Input!K25="","",Input!K25) | F22: =IF(Input!L25="","",Input!L25) | G22: =IF(Input!M25="","",Input!M25) | J22: sum = | K22: Σ
C23: =IF(Input!I26="","",Input!I26) | D23: =IF(Input!J26="","",Input!J26) | E23: =IF(Input!K26="","",Input!K26) | F23: =IF(Input!L26="","",Input!L26) | G23: =IF(Input!M26="","",Input!M26) | J23: =IF(one.refer,"X.base = ","") -> X.base = | K23: =IF(one.refer,X.base,"") -> 665865
C24: =IF(Input!I27="","",Input!I27) | D24: =IF(Input!J27="","",Input!J27) | E24: =IF(Input!K27="","",Input!K27) | F24: =IF(Input!L27="","",Input!L27) | G24: =IF(Input!M27="","",Input!M27) | J24: =IF(one.refer,"X.launch = ","") -> X.launch = | K24: =IF(one.refer,X.launch,"") -> 691893
C25: =IF(Input!I28="","",Input!I28) | D25: =IF(Input!J28="","",Input!J28) | E25: =IF(Input!K28="","",Input!K28) | F25: =IF(Input!L28="","",Input!L28) | G25: =IF(Input!M28="","",Input!M28) | J25: =IF(one.refer,"X.target = ","") -> X.target = | K25: =IF(one.refer,X.target,"") -> 881851
C26: =IF(Input!I29="","",Input!I29) | D26: =IF(Input!J29="","",Input!J29) | E26: =IF(Input!K29="","",Input!K29) | F26: =IF(Input!L29="","",Input!L29) | G26: =IF(Input!M29="","",Input!M29) | J26: =IF(one.refer,"s.trend = ","") -> s.trend = | K26: =IF(one.refer,Input!M11,"") -> 0.0229
C27: =IF(Input!I30="","",Input!I30) | D27: =IF(Input!J30="","",Input!J30) | E27: =IF(Input!K30="","",Input!K30) | F27: =IF(Input!L30="","",Input!L30) | G27: =IF(Input!M30="","",Input!M30) | J27: =IF(one.refer,"x1.base = ","") -> x1.base = | K27: =IF(one.refer,Input!F11,"") -> 18147
C28: =IF(Input!I31="","",Input!I31) | D28: =IF(Input!J31="","",Input!J31) | E28: =IF(Input!K31="","",Input!K31) | F28: =IF(Input!L31="","",Input!L31) | G28: =IF(Input!M31="","",Input!M31) | J28: =IF(one.refer,"x1.launch = ","") -> x1.launch = | K28: =IF(one.refer,Input!G11,"") -> 19335
C29: =IF(Input!I32="","",Input!I32) | D29: =IF(Input!J32="","",Input!J32) | E29: =IF(Input!K32="","",Input!K32) | F29: =IF(Input!L32="","",Input!L32) | G29: =IF(Input!M32="","",Input!M32)
C30: =IF(Input!I33="","",Input!I33) | D30: =IF(Input!J33="","",Input!J33) | E30: =IF(Input!K33="","",Input!K33) | F30: =IF(Input!L33="","",Input!L33) | G30: =IF(Input!M33="","",Input!M33)
C31: =IF(Input!I34="","",Input!I34) | D31: =IF(Input!J34="","",Input!J34) | E31: =IF(Input!K34="","",Input!K34) | F31: =IF(Input!L34="","",Input!L34) | G31: =IF(Input!M34="","",Input!M34)
C32: =IF(Input!I35="","",Input!I35) | D32: =IF(Input!J35="","",Input!J35) | E32: =IF(Input!K35="","",Input!K35) | F32: =IF(Input!L35="","",Input!L35) | G32: =IF(Input!M35="","",Input!M35)
C33: Total | D33: =SUM(D8:D32) -> 665865 | E33: =SUM(E8:E32) -> 691893 | F33: =SUM(F8:F32) -> 881851 | G33: ---
B37: Constant Share Projections
B39: Component | C39: =study.label -> City | D39: =variable -> Population | E39: Share | F39: =variable -> Population | G39: Growth Rate
D40: =launch -> 2010 | E40: =launch -> 2010 | F40: =target -> 2040
B41: ="i" -> i | D41: ="xi^"&launch -> xi^2010 | E41: ="si^"&launch -> si^2010 | F41: ="xi^"&target -> xi^2040 | G41: ="ri^"&base&","&target -> ri^2000,2040
B42: (1) | C42: (2) | D42: (3) | E42: (4) | F42: (5) | G42: (6)
B43: 1 | C43: =IF(Input!E11="","",Input!E11) -> Decatur | D43: =IF(C43="","",Input!G11) -> 19335 | E43: =IF(C43="","",IF(one.refer,ROUND(D43/X.launch,4),D43/E8)) -> 0.0279 | F43: =IF(C43="","",IF(one.refer,X.target*E43,adjust*F8*E43)) -> 24603.643 | G43: =IF(C43="","",ROUND(((F43-D43)/D43),3)) -> 0.272
B44: 2 | C44: =IF(Input!E12="","",Input!E12) | D44: =IF(C44="","",Input!G12) | E44: =IF(C44="","",IF(one.refer,ROUND(D44/X.launch,4),D44/E9)) | F44: =IF(C44="","",IF(one.refer,X.target*E44,adjust*F9*E44)) | G44: =IF(C44="","",ROUND(((F44-D44)/D44),3))
B45: 3 | C45: =IF(Input!E13="","",Input!E13) | D45: =IF(C45="","",Input!G13) | E45: =IF(C45="","",IF(one.refer,ROUND(D45/X.launch,4),D45/E10)) | F45: =IF(C45="","",IF(one.refer,X.target*E45,adjust*F10*E45)) | G45: =IF(C45="","",ROUND(((F45-D45)/D45),3))
B46: 4 | C46: =IF(Input!E14="","",Input!E14) | D46: =IF(C46="","",Input!G14) | E46: =IF(C46="","",IF(one.refer,ROUND(D46/X.launch,4),D46/E11)) | F46: =IF(C46="","",IF(one.refer,X.target*E46,adjust*F11*E46)) | G46: =IF(C46="","",ROUND(((F46-D46)/D46),3))
B47: 5 | C47: =IF(Input!E15="","",Input!E15) | D47: =IF(C47="","",Input!G15) | E47: =IF(C47="","",IF(one.refer,ROUND(D47/X.launch,4),D47/E12)) | F47: =IF(C47="","",IF(one.refer,X.target*E47,adjust*F12*E47)) | G47: =IF(C47="","",ROUND(((F47-D47)/D47),3))
B48: 6 | C48: =IF(Input!E16="","",Input!E16) | D48: =IF(C48="","",Input!G16) | E48: =IF(C48="","",IF(one.refer,ROUND(D48/X.launch,4),D48/#REF!)) | F48: =IF(C48="","",IF(one.refer,X.target*E48,adjust*#REF!*E48)) | G48: =IF(C48="","",ROUND(((F48-D48)/D48),3))
B49: 7 | C49: =IF(Input!E17="","",Input!E17) | D49: =IF(C49="","",Input!G17) | E49: =IF(C49="","",IF(one.refer,ROUND(D49/X.launch,4),D49/E14)) | F49: =IF(C49="","",IF(one.refer,X.target*E49,adjust*F14*E49)) | G49: =IF(C49="","",ROUND(((F49-D49)/D49),3))
B50: 8 | C50: =IF(Input!E18="","",Input!E18) | D50: =IF(C50="","",Input!G18) | E50: =IF(C50="","",IF(one.refer,ROUND(D50/X.launch,4),D50/E15)) | F50: =IF(C50="","",IF(one.refer,X.target*E50,adjust*F15*E50)) | G50: =IF(C50="","",ROUND(((F50-D50)/D50),3))
B51: 9 | C51: =IF(Input!E19="","",Input!E19) | D51: =IF(C51="","",Input!G19) | E51: =IF(C51="","",IF(one.refer,ROUND(D51/X.launch,4),D51/E16)) | F51: =IF(C51="","",IF(one.refer,X.target*E51,adjust*F16*E51)) | G51: =IF(C51="","",ROUND(((F51-D51)/D51),3))
B52: 10 | C52: =IF(Input!E20="","",Input!E20) | D52: =IF(C52="","",Input!G20) | E52: =IF(C52="","",IF(one.refer,ROUND(D52/X.launch,4),D52/E17)) | F52: =IF(C52="","",IF(one.refer,X.target*E52,adjust*F17*E52)) | G52: =IF(C52="","",ROUND(((F52-D52)/D52),3))
B53: 11 | C53: =IF(Input!E21="","",Input!E21) | D53: =IF(C53="","",Input!G21) | E53: =IF(C53="","",IF(one.refer,ROUND(D53/X.launch,4),D53/E18)) | F53: =IF(C53="","",IF(one.refer,X.target*E53,adjust*F18*E53)) | G53: =IF(C53="","",ROUND(((F53-D53)/D53),3))
B54: 12 | C54: =IF(Input!E22="","",Input!E22) | D54: =IF(C54="","",Input!G22) | E54: =IF(C54="","",IF(one.refer,ROUND(D54/X.launch,4),D54/E19)) | F54: =IF(C54="","",IF(one.refer,X.target*E54,adjust*F19*E54)) | G54: =IF(C54="","",ROUND(((F54-D54)/D54),3))
B55: 13 | C55: =IF(Input!E23="","",Input!E23) | D55: =IF(C55="","",Input!G23) | E55: =IF(C55="","",IF(one.refer,ROUND(D55/X.launch,4),D55/E20)) | F55: =IF(C55="","",IF(one.refer,X.target*E55,adjust*F20*E55)) | G55: =IF(C55="","",ROUND(((F55-D55)/D55),3))
B56: 14 | C56: =IF(Input!E24="","",Input!E24) | D56: =IF(C56="","",Input!G24) | E56: =IF(C56="","",IF(one.refer,ROUND(D56/X.launch,4),D56/E21)) | F56: =IF(C56="","",IF(one.refer,X.target*E56,adjust*F21*E56)) | G56: =IF(C56="","",ROUND(((F56-D56)/D56),3))
B57: 15 | C57: =IF(Input!E25="","",Input!E25) | D57: =IF(C57="","",Input!G25) | E57: =IF(C57="","",IF(one.refer,ROUND(D57/X.launch,4),D57/E22)) | F57: =IF(C57="","",IF(one.refer,X.target*E57,adjust*F22*E57)) | G57: =IF(C57="","",ROUND(((F57-D57)/D57),3))
B58: 16 | C58: =IF(Input!E26="","",Input!E26) | D58: =IF(C58="","",Input!G26) | E58: =IF(C58="","",IF(one.refer,ROUND(D58/X.launch,4),D58/E23)) | F58: =IF(C58="","",IF(one.refer,X.target*E58,adjust*F23*E58)) | G58: =IF(C58="","",ROUND(((F58-D58)/D58),3))
B59: 17 | C59: =IF(Input!E27="","",Input!E27) | D59: =IF(C59="","",Input!G27) | E59: =IF(C59="","",IF(one.refer,ROUND(D59/X.launch,4),D59/E24)) | F59: =IF(C59="","",IF(one.refer,X.target*E59,adjust*F24*E59)) | G59: =IF(C59="","",ROUND(((F59-D59)/D59),3))
B60: 18 | C60: =IF(Input!E28="","",Input!E28) | D60: =IF(C60="","",Input!G28) | E60: =IF(C60="","",IF(one.refer,ROUND(D60/X.launch,4),D60/E25)) | F60: =IF(C60="","",IF(one.refer,X.target*E60,adjust*F25*E60)) | G60: =IF(C60="","",ROUND(((F60-D60)/D60),3))
... B67: 25 | C67: =IF(Input!E35="","",Input!E35) | D67: =IF(C67="","",Input!G35) | E67: =IF(C67="","",IF(one.refer,ROUND(D67/X.launch,4),D67/E32)) | F67: =IF(C67="","",IF(one.refer,X.target*E67,adjust*F32*E67)) | G67: =IF(C67="","",ROUND(((F67-D67)/D67),3))
B68: Total | C68: --- | D68: =SUM(D43:D55) -> 19335 | E68: --- | F68: =SUM(F43:F55) -> 24603.643 | G68: =ROUND(((F68-D68)/D68),3) -> 0.272
B70: =IF(one.refer," X^"&launch&" = "," X{1}^"&launch) -> X^2010 = | C70: =IF(one.refer,X.launch,X.launch) -> 691893
B71: =IF(one.refer," X^"&target&" = ","X{1}^"&target&" =") -> X^2040 = | C71: =IF(one.refer,X.target,F8) -> 881851
B72: =IF(one.refer,"",IF(adjust=1,"","Adjustment = ")) | C72: =IF(one.refer,"",IF(adjust=1,"",adjust))
B74: ="s{1}^"&launch&" = " -> s{1}^2010 = | C74: =IF(one.refer,"x{1}^"&launch&" / X^"&launch,"x{1}^"&launch&"/X{1}^"&launch) -> x{1}^2010 / X^2010
B75: = | C75: =IF(one.refer,TEXT($D$43,"#,###")&"/"&TEXT($C$70,"#,###"),TEXT($D$43,"#,###")&"/"&TEXT($C$70,"#,###")) -> 19,335/691,893
B76: = | C76: =IF(one.refer,ROUND($D$43/$C$70,4),$D$43/$C$70) -> 0.0279
B78: =x1.target -> x{1}^2040 = | C78: =IF(one.refer,"(s{1}^"&launch&")(X^"&target&")",IF(adjust=1,"( s{1}^"&launch&" )( X{1}^"&target&" )","(Adustment )(s{1}^"&launch&")(X{1}^"&target&")")) -> (s{1}^2010)(X^2040)
B79: = | C79: =IF(one.refer,"("&TEXT($C$76,"0.###0")&")("&TEXT($C$71,"#,###")&")",IF(adjust<>1,"("&TEXT(C72,"0.000#")&" )("&TEXT($C$76,"0.####")&" )("&TEXT($C$71,"0,###")&")","("&TEXT($C$76,"0.####")&")("&TEXT($F$8,"#,###")&")")) -> (0.0279)(881,851)
B80: = | C80: =IF(one.refer,$C$76*$C$71,adjust*$C$76*$C$71) -> 24603.643
B83: Projected Shift
B85: Component | C85: =study.label -> City | D85: =variable -> Population | E85: Share | F85: =variable -> Population | G85: Share | H85: Projected
D86: =base.year -> 2000 | E86: =base.year -> 2000 | F86: =launch.year -> 2010 | G86: =launch.year -> 2010 | H86: Shift
B87: ="i" -> i | D87: ="xi^"&base -> xi^2000 | E87: ="si^"&base -> si^2000 | F87: ="xi^"&launch -> xi^2010 | G87: ="si^"&launch -> si^2010 | H87: =delta&"si^"&launch&","&target -> Δsi^2010,2040
B88: (1) | C88: (2) | D88: (3) | E88: (4) | F88: (5) | G88: (6) | H88: (7)
B89: 1 | C89: =IF(Input!E11="","",Input!E11) -> Decatur | D89: =IF(C89="","",Input!F11) -> 18147 | E89: =IF(C89="","",IF(one.refer,ROUND(D89/X.base,4),D89/D8)) -> 0.0273 | F89: =IF(C89="","",Input!G11) -> 19335 | G89: =IF(C89="","",IF(one.refer,ROUND(F89/X.launch,4),F89/E8)) -> 0.0279 | H89: =IF(C89="","",((target-launch)/(launch-base))*(G89-E89)) -> 0.0018
B90: 2 | C90: =IF(Input!E12="","",Input!E12) | D90: =IF(C90="","",Input!F12) | E90: =IF(C90="","",IF(one.refer,ROUND(D90/X.base,4),D90/D9)) | F90: =IF(C90="","",Input!G12) | G90: =IF(C90="","",IF(one.refer,ROUND(F90/X.launch,4),F90/E9)) | H90: =IF(C90="","",((target-launch)/(launch-base))*(G90-E90))
B91: 3 | C91: =IF(Input!E13="","",Input!E13) | D91: =IF(C91="","",Input!F13) | E91: =IF(C91="","",IF(one.refer,ROUND(D91/X.base,4),D91/D10)) | F91: =IF(C91="","",Input!G13) | G91: =IF(C91="","",IF(one.refer,ROUND(F91/X.launch,4),F91/E10)) | H91: =IF(C91="","",((target-launch)/(launch-base))*(G91-E91))
B92: 4 | C92: =IF(Input!E14="","",Input!E14) | D92: =IF(C92="","",Input!F14) | E92: =IF(C92="","",IF(one.refer,ROUND(D92/X.base,4),D92/D11)) | F92: =IF(C92="","",Input!G14) | G92: =IF(C92="","",IF(one.refer,ROUND(F92/X.launch,4),F92/E11)) | H92: =IF(C92="","",((target-launch)/(launch-base))*(G92-E92))
B93: 5 | C93: =IF(Input!E15="","",Input!E15) | D93: =IF(C93="","",Input!F15) | E93: =IF(C93="","",IF(one.refer,ROUND(D93/X.base,4),D93/D12)) | F93: =IF(C93="","",Input!G15) | G93: =IF(C93="","",IF(one.refer,ROUND(F93/X.launch,4),F93/E12)) | H93: =IF(C93="","",((target-launch)/(launch-base))*(G93-E93))
B94: 6 | C94: =IF(Input!E16="","",Input!E16) | D94: =IF(C94="","",Input!F16) | E94: =IF(C94="","",IF(one.refer,ROUND(D94/X.base,4),D94/#REF!)) | F94: =IF(C94="","",Input!G16) | G94: =IF(C94="","",IF(one.refer,ROUND(F94/X.launch,4),F94/#REF!)) | H94: =IF(C94="","",((target-launch)/(launch-base))*(G94-E94))
B95: 7 | C95: =IF(Input!E17="","",Input!E17) | D95: =IF(C95="","",Input!F17) | E95: =IF(C95="","",IF(one.refer,ROUND(D95/X.base,4),D95/D14)) | F95: =IF(C95="","",Input!G17) | G95: =IF(C95="","",IF(one.refer,ROUND(F95/X.launch,4),F95/E14)) | H95: =IF(C95="","",((target-launch)/(launch-base))*(G95-E95))
B96: 8 | C96: =IF(Input!E18="","",Input!E18) | D96: =IF(C96="","",Input!F18) | E96: =IF(C96="","",IF(one.refer,ROUND(D96/X.base,4),D96/D15)) | F96: =IF(C96="","",Input!G18) | G96: =IF(C96="","",IF(one.refer,ROUND(F96/X.launch,4),F96/E15)) | H96: =IF(C96="","",((target-launch)/(launch-base))*(G96-E96))
B97: 9 | C97: =IF(Input!E19="","",Input!E19) | D97: =IF(C97="","",Input!F19) | E97: =IF(C97="","",IF(one.refer,ROUND(D97/X.base,4),D97/D16)) | F97: =IF(C97="","",Input!G19) | G97: =IF(C97="","",IF(one.refer,ROUND(F97/X.launch,4),F97/E16)) | H97: =IF(C97="","",((target-launch)/(launch-base))*(G97-E97))
B98: 10 | C98: =IF(Input!E20="","",Input!E20) | D98: =IF(C98="","",Input!F20) | E98: =IF(C98="","",IF(one.refer,ROUND(D98/X.base,4),D98/D17)) | F98: =IF(C98="","",Input!G20) | G98: =IF(C98="","",IF(one.refer,ROUND(F98/X.launch,4),F98/E17)) | H98: =IF(C98="","",((target-launch)/(launch-base))*(G98-E98))
B99: 11 | C99: =IF(Input!E21="","",Input!E21) | D99: =IF(C99="","",Input!F21) | E99: =IF(C99="","",IF(one.refer,ROUND(D99/X.base,4),D99/D18)) | F99: =IF(C99="","",Input!G21) | G99: =IF(C99="","",IF(one.refer,ROUND(F99/X.launch,4),F99/E18)) | H99: =IF(C99="","",((target-launch)/(launch-base))*(G99-E99))
B100: 12 | C100: =IF(Input!E22="","",Input!E22) | D100: =IF(C100="","",Input!F22) | E100: =IF(C100="","",IF(one.refer,ROUND(D100/X.base,4),D100/D19)) | F100: =IF(C100="","",Input!G22) | G100: =IF(C100="","",IF(one.refer,ROUND(F100/X.launch,4),F100/E19)) | H100: =IF(C100="","",((target-launch)/(launch-base))*(G100-E100))
B101: 13 | C101: =IF(Input!E23="","",Input!E23) | D101: =IF(C101="","",Input!F23) | E101: =IF(C101="","",IF(one.refer,ROUND(D101/X.base,4),D101/D20)) | F101: =IF(C101="","",Input!G23) | G101: =IF(C101="","",IF(one.refer,ROUND(F101/X.launch,4),F101/E20)) | H101: =IF(C101="","",((target-launch)/(launch-base))*(G101-E101))
B102: 14 | C102: =IF(Input!E24="","",Input!E24) | D102: =IF(C102="","",Input!F24) | E102: =IF(C102="","",IF(one.refer,ROUND(D102/X.base,4),D102/D21)) | F102: =IF(C102="","",Input!G24) | G102: =IF(C102="","",IF(one.refer,ROUND(F102/X.launch,4),F102/E21)) | H102: =IF(C102="","",((target-launch)/(launch-base))*(G102-E102))
B103: 15 | C103: =IF(Input!E25="","",Input!E25) | D103: =IF(C103="","",Input!F25) | E103: =IF(C103="","",IF(one.refer,ROUND(D103/X.base,4),D103/D22)) | F103: =IF(C103="","",Input!G25) | G103: =IF(C103="","",IF(one.refer,ROUND(F103/X.launch,4),F103/E22)) | H103: =IF(C103="","",((target-launch)/(launch-base))*(G103-E103))
B104: 16 | C104: =IF(Input!E26="","",Input!E26) | D104: =IF(C104="","",Input!F26) | E104: =IF(C104="","",IF(one.refer,ROUND(D104/X.base,4),D104/D23)) | F104: =IF(C104="","",Input!G26) | G104: =IF(C104="","",IF(one.refer,ROUND(F104/X.launch,4),F104/E23)) | H104: =IF(C104="","",((target-launch)/(launch-base))*(G104-E104))
B105: 17 | C105: =IF(Input!E27="","",Input!E27) | D105: =IF(C105="","",Input!F27) | E105: =IF(C105="","",IF(one.refer,ROUND(D105/X.base,4),D105/D24)) | F105: =IF(C105="","",Input!G27) | G105: =IF(C105="","",IF(one.refer,ROUND(F105/X.launch,4),F105/E24)) | H105: =IF(C105="","",((target-launch)/(launch-base))*(G105-E105))
B106: 18 | C106: =IF(Input!E28="","",Input!E28) | D106: =IF(C106="","",Input!F28) | E106: =IF(C106="","",IF(one.refer,ROUND(D106/X.base,4),D106/D25)) | F106: =IF(C106="","",Input!G28) | G106: =IF(C106="","",IF(one.refer,ROUND(F106/X.launch,4),F106/E25)) | H106: =IF(C106="","",((target-launch)/(launch-base))*(G106-E106))
... B113: 25 | C113: =IF(Input!E35="","",Input!E35) | D113: =IF(C113="","",Input!F35) | E113: =IF(C113="","",IF(one.refer,ROUND(D113/X.base,4),D113/D32)) | F113: =IF(C113="","",Input!G35) | G113: =IF(C113="","",IF(one.refer,ROUND(F113/X.launch,4),F113/E32)) | H113: =IF(C113="","",((target-launch)/(launch-base))*(G113-E113))
B114: Total | C114: --- | D114: =SUM(D89:D101) -> 18147 | E114: --- | F114: =SUM(F89:F101) -> 19335 | G114: --- | H114: ---
C116: Base Year = | D116: =base.year -> 2000
C117: Launch Year = | D117: =launch.year -> 2010
C118: Target Year = | D118: =target.year -> 2040
C120: =delta&"s{1}^{"&launch&","&target&"} =" -> Δs{1}^{2010,2040} = | D120: ="[ ("&target&" - "&launch&") / ("&launch&" - "&base&" ) ][ (s{1}^"&launch&" - s{1}^"&base&" ) ]" -> [ (2040 - 2010) / (2010 - 2000 ) ][ (s{1}^2010 - s{1}^2000 ) ]
C121: = | D121: ="[ ( "&TEXT($D$118,"####")&"- "&TEXT($D$117,"###")&") ] / ("&TEXT($D$117,"###")&" - "&TEXT($D$116,"###)")&" ) ] [ "&TEXT($G$89,"#0.###0")&" - "&TEXT($E$89,"#0.###0")&" ]" -> [ ( 2040- 2010) ] / (2010 - 2000) ) ] [ 0.0279 - 0.0273 ]
C122: = | D122: =(($D$118-$D$117)/($D$117-$D$116))*($G$89-$E$89) -> 0.0018
B124: Shift-Share Projections
B126: Component | C126: =study.label -> City | D126: =variable -> Population | E126: Share | F126: Projected | G126: =variable -> Population | H126: Growth Rate
D127: =launch -> 2010 | E127: =launch -> 2010 | F127: Shift | G127: =target -> 2040
B128: ="i" -> i | D128: ="xi^"&launch -> xi^2010 | E128: ="si^"&launch -> si^2010 | F128: =delta&"si^"&launch&","&target -> Δsi^2010,2040 | G128: ="xi^"&target -> xi^2040 | H128: ="ri^"&base&","&target -> ri^2000,2040
...

Sheet Output
B1: =IF(one.analysis,label,"") -> Share Projections: Decatur Population, 2040
B3: =IF(one.analysis,"Projection","") -> Projection | C3: =IF(one.analysis,refer.area&" "&variable,"") -> DeKalb County Population | E3: =IF(one.analysis,"Growth","") -> Growth | F3: =IF(one.analysis,study.area&" "&variable,"") -> Decatur Population | H3: =IF(one.analysis,"Growth","") -> Growth
C4: =IF(one.analysis,launch,"") -> 2010 | D4: =IF(one.analysis,target,"") -> 2040 | E4: =IF(one.analysis,"Rate","") -> Rate | F4: =IF(one.analysis,launch,"") -> 2010 | G4: =IF(one.analysis,target,"") -> 2040 | H4: =IF(one.analysis,"Rate","") -> Rate
B5: (1) | C5: (2) | D5: (3) | E5: (4) | F5: (5) | G5: (6) | H5: (7)
B6: =IF(one.analysis,"Constant-Share","") -> Constant-Share | C6: =IF(one.analysis,X.launch,"") -> 691893 | D6: =IF(one.analysis,X.target,"") -> 881851 | E6: =IF(one.analysis,(D6-C6)/C6,"") -> 0.27454823 | F6: =IF(one.analysis,x1.launch,"") -> 19335 | G6: =IF(one.analysis,Computations!F43,"") -> 24603.643 | H6: =IF(one.analysis,(G6-F6)/F6,"") -> 0.27249252
B7: =IF(one.analysis,"Shift-Share","") -> Shift-Share | C7: =IF(one.analysis,X.launch,"") -> 691893 | D7: =IF(one.analysis,X.target,"") -> 881851 | E7: =IF(one.analysis,(D7-C7)/C7,"") -> 0.27454823 | F7: =IF(one.analysis,x1.launch,"") -> 19335 | G7: =IF(one.analysis,Computations!G130,"") -> 26191 | H7: =IF(one.analysis,(G7-F7)/F7,"") -> 0.35459012
B8: =IF(one.analysis,"Share-of-Change","") -> Share-of-Change | C8: =IF(one.analysis,X.launch,"") -> 691893 | D8: =IF(one.analysis,X.target,"") -> 881851 | E8: =IF(one.analysis,(D8-C8)/C8,"") -> 0.27454823 | F8: =IF(one.analysis,x1.launch,"") -> 19335 | G8: =IF(one.analysis,Computations!G266,"") -> 27997.085 | H8: =IF(one.analysis,(G8-F8)/F8,"") -> 0.44800025
B9: =IF(one.analysis,"Share-Trend","") -> Share-Trend | C9: =IF(one.analysis,X.launch,"") -> 691893 | D9: =IF(one.analysis,X.target,"") -> 881851 | E9: =IF(one.analysis,(D9-C9)/C9,"") -> 0.27454823 | F9: =IF(one.analysis,x1.launch,"") -> 19335 | G9: =IF(AND(s.trend<>0,one.analysis),Computations!D280,"") -> 20194.388 | H9: =IF(one.analysis,(G9-F9)/F9,"") -> 0.044447267
B10: =IF(one.analysis,"Average","") -> Average | C10: =IF(one.analysis,AVERAGE(C6:C9),"") -> 691893 | D10: =IF(one.analysis,AVERAGE(D6:D9),"") -> 881851 | E10: =IF(one.analysis,AVERAGE(E6:E9),"") -> 0.27454823 | F10: =IF(one.analysis,AVERAGE(F6:F9),"") -> 19335 | G10: =IF(one.analysis,AVERAGE(G6:G9),"") -> 24746.529 | H10: =IF(one.analysis,AVERAGE(H6:H9),"") -> 0.27988254
B14: =IF(one.analysis,"",label)
B16: =IF(one.analysis,"",study.label) | C16: =IF(one.analysis,"",launch&" "&variable) | D16: Constant-Share | F16: Shift-Share | H16: Share-of-Change | J16: =IF(one.refer,"Adjusted-Share-of-Change","Share-Trend") -> Adjusted-Share-of-Change
D17: =IF(one.analysis,"",target&" "&variable) | E17: =IF(one.analysis,"","Growth Rate") | F17: =IF(one.analysis,"",target&" "&variable) | G17: =IF(one.analysis,"","Growth Rate") | H17: =IF(one.analysis,"",target&" "&variable) | I17: =IF(one.analysis,"","Growth Rate") | J17: =IF(one.analysis,"",target&" "&variable) | K17: =IF(one.analysis,"","Growth Rate")
B18: (1) | C18: (2) | D18: (3) | E18: (4) | F18: (5) | G18: (6) | H18: (7) | I18: (8) | J18: (9) | K18: (10)
B19: =IF(one.analysis,"",Computations!C43) | C19: =IF(one.analysis,"",Computations!D43) | D19: =IF(one.analysis,"",Computations!F43) | E19: =IF(one.analysis,"",Computations!G43) | F19: =IF(one.analysis,"",Computations!G130) | G19: =IF(one.analysis,"",Computations!H130) | H19: =IF(one.analysis,"",IF(one.refer,Computations!G210,Computations!Q210)) | I19: =IF(one.analysis,"",IF(one.refer,Computations!H210,Computations!R210)) | J19: =IF(one.analysis,"",IF(one.refer,Computations!F345,Computations!N280)) | K19: =IF(one.analysis,"",IF(one.refer,Computations!G345,Computations!O280))
B20: =IF(one.analysis,"",Computations!C44) | C20: =IF(one.analysis,"",Computations!D44) | D20: =IF(one.analysis,"",Computations!F44) | E20: =IF(one.analysis,"",Computations!G44) | F20: =IF(one.analysis,"",Computations!G131) | G20: =IF(one.analysis,"",Computations!H131) | H20: =IF(one.analysis,"",IF(one.refer,Computations!G211,Computations!Q211)) | I20: =IF(one.analysis,"",IF(one.refer,Computations!H211,Computations!R211)) | J20: =IF(one.analysis,"",IF(one.refer,Computations!F346,Computations!N281)) | K20: =IF(one.analysis,"",IF(one.refer,Computations!G346,Computations!O281))
B21: =IF(one.analysis,"",Computations!C45) | C21: =IF(one.analysis,"",Computations!D45) | D21: =IF(one.analysis,"",Computations!F45) | E21: =IF(one.analysis,"",Computations!G45) | F21: =IF(one.analysis,"",Computations!G132) | G21: =IF(one.analysis,"",Computations!H132) | H21: =IF(one.analysis,"",IF(one.refer,Computations!G212,Computations!Q212)) | I21: =IF(one.analysis,"",IF(one.refer,Computations!H212,Computations!R212)) | J21: =IF(one.analysis,"",IF(one.refer,Computations!F347,Computations!N282)) | K21: =IF(one.analysis,"",IF(one.refer,Computations!G347,Computations!O282))
B22: =IF(one.analysis,"",Computations!C46) | C22: =IF(one.analysis,"",Computations!D46) | D22: =IF(one.analysis,"",Computations!F46) | E22: =IF(one.analysis,"",Computations!G46) | F22: =IF(one.analysis,"",Computations!G133) | G22: =IF(one.analysis,"",Computations!H133) | H22: =IF(one.analysis,"",IF(one.refer,Computations!G213,Computations!Q213)) | I22: =IF(one.analysis,"",IF(one.refer,Computations!H213,Computations!R213)) | J22: =IF(one.analysis,"",IF(one.refer,Computations!F348,Computations!N283)) | K22: =IF(one.analysis,"",IF(one.refer,Computations!G348,Computations!O283))
B23: =IF(one.analysis,"",Computations!C47) | C23: =IF(one.analysis,"",Computations!D47) | D23: =IF(one.analysis,"",Computations!F47) | E23: =IF(one.analysis,"",Computations!G47) | F23: =IF(one.analysis,"",Computations!G134) | G23: =IF(one.analysis,"",Computations!H134) | H23: =IF(one.analysis,"",IF(one.refer,Computations!G214,Computations!Q214)) | I23: =IF(one.analysis,"",IF(one.refer,Computations!H214,Computations!R214)) | J23: =IF(one.analysis,"",IF(one.refer,Computations!F349,Computations!N284)) | K23: =IF(one.analysis,"",IF(one.refer,Computations!G349,Computations!O284))
B24: =IF(one.analysis,"",Computations!C48) | C24: =IF(one.analysis,"",Computations!D48) | D24: =IF(one.analysis,"",Computations!F48) | E24: =IF(one.analysis,"",Computations!G48) | F24: =IF(one.analysis,"",Computations!G135) | G24: =IF(one.analysis,"",Computations!H135) | H24: =IF(one.analysis,"",IF(one.refer,Computations!G215,Computations!Q215)) | I24: =IF(one.analysis,"",IF(one.refer,Computations!H215,Computations!R215)) | J24: =IF(one.analysis,"",IF(one.refer,Computations!F350,Computations!N285)) | K24: =IF(one.analysis,"",IF(one.refer,Computations!G350,Computations!O285))
B25: =IF(one.analysis,"",Computations!C49) | C25: =IF(one.analysis,"",Computations!D49) | D25: =IF(one.analysis,"",Computations!F49) | E25: =IF(one.analysis,"",Computations!G49) | F25: =IF(one.analysis,"",Computations!G136) | G25: =IF(one.analysis,"",Computations!H136) | H25: =IF(one.analysis,"",IF(one.refer,Computations!G216,Computations!Q216)) | I25: =IF(one.analysis,"",IF(one.refer,Computations!H216,Computations!R216)) | J25: =IF(one.analysis,"",IF(one.refer,Computations!F351,Computations!N286)) | K25: =IF(one.analysis,"",IF(one.refer,Computations!G351,Computations!O286))
B26: =IF(one.analysis,"",Computations!C50) | C26: =IF(one.analysis,"",Computations!D50) | D26: =IF(one.analysis,"",Computations!F50) | E26: =IF(one.analysis,"",Computations!G50) | F26: =IF(one.analysis,"",Computations!G137) | G26: =IF(one.analysis,"",Computations!H137) | H26: =IF(one.analysis,"",IF(one.refer,Computations!G217,Computations!Q217)) | I26: =IF(one.analysis,"",IF(one.refer,Computations!H217,Computations!R217)) | J26: =IF(one.analysis,"",IF(one.refer,Computations!F352,Computations!N287)) | K26: =IF(one.analysis,"",IF(one.refer,Computations!G352,Computations!O287))
B27: =IF(one.analysis,"",Computations!C51) | C27: =IF(one.analysis,"",Computations!D51) | D27: =IF(one.analysis,"",Computations!F51) | E27: =IF(one.analysis,"",Computations!G51) | F27: =IF(one.analysis,"",Computations!G138) | G27: =IF(one.analysis,"",Computations!H138) | H27: =IF(one.analysis,"",IF(one.refer,Computations!G218,Computations!Q218)) | I27: =IF(one.analysis,"",IF(one.refer,Computations!H218,Computations!R218)) | J27: =IF(one.analysis,"",IF(one.refer,Computations!F353,Computations!N288)) | K27: =IF(one.analysis,"",IF(one.refer,Computations!G353,Computations!O288))
B28: =IF(one.analysis,"",Computations!C52) | C28: =IF(one.analysis,"",Computations!D52) | D28: =IF(one.analysis,"",Computations!F52) | E28: =IF(one.analysis,"",Computations!G52) | F28: =IF(one.analysis,"",Computations!G139) | G28: =IF(one.analysis,"",Computations!H139) | H28: =IF(one.analysis,"",IF(one.refer,Computations!G219,Computations!Q219)) | I28: =IF(one.analysis,"",IF(one.refer,Computations!H219,Computations!R219)) | J28: =IF(one.analysis,"",IF(one.refer,Computations!F354,Computations!N289)) | K28: =IF(one.analysis,"",IF(one.refer,Computations!G354,Computations!O289))
B29: =IF(one.analysis,"",Computations!C53) | C29: =IF(one.analysis,"",Computations!D53) | D29: =IF(one.analysis,"",Computations!F53) | E29: =IF(one.analysis,"",Computations!G53) | F29: =IF(one.analysis,"",Computations!G140) | G29: =IF(one.analysis,"",Computations!H140) | H29: =IF(one.analysis,"",IF(one.refer,Computations!G220,Computations!Q220)) | I29: =IF(one.analysis,"",IF(one.refer,Computations!H220,Computations!R220)) | J29: =IF(one.analysis,"",IF(one.refer,Computations!F355,Computations!N290)) | K29: =IF(one.analysis,"",IF(one.refer,Computations!G355,Computations!O290))
B30: =IF(one.analysis,"",Computations!C54) | C30: =IF(one.analysis,"",Computations!D54) | D30: =IF(one.analysis,"",Computations!F54) | E30: =IF(one.analysis,"",Computations!G54) | F30: =IF(one.analysis,"",Computations!G141) | G30: =IF(one.analysis,"",Computations!H141) | H30: =IF(one.analysis,"",IF(one.refer,Computations!G221,Computations!Q221)) | I30: =IF(one.analysis,"",IF(one.refer,Computations!H221,Computations!R221)) | J30: =IF(one.analysis,"",IF(one.refer,Computations!F356,Computations!N291)) | K30: =IF(one.analysis,"",IF(one.refer,Computations!G356,Computations!O291))
... B43: =IF(one.analysis,"",Computations!C67) | C43: =IF(one.analysis,"",Computations!D67) | D43: =IF(one.analysis,"",Computations!F67) | E43: =IF(one.analysis,"",Computations!G67) | F43: =IF(one.analysis,"",Computations!G154) | G43: =IF(one.analysis,"",Computations!H154) | H43: =IF(one.analysis,"",IF(one.refer,Computations!G234,Computations!Q234)) | I43: =IF(one.analysis,"",IF(one.refer,Computations!H234,Computations!R234)) | J43: =IF(one.analysis,"",IF(one.refer,Computations!F369,Computations!N304)) | K43: =IF(one.analysis,"",IF(one.refer,Computations!G369,Computations!O304))
B44: Total | C44: =IF(one.analysis,"",Computations!D68) | D44: =IF(one.analysis,"",Computations!F68) | E44: =IF(one.analysis,"",Computations!G68) | F44: =IF(one.analysis,"",Computations!G155) | G44: =IF(one.analysis,"",Computations!H155) | H44: =IF(one.analysis,"",IF(one.refer,Computations!G235,Computations!Q235)) | I44: =IF(one.analysis,"",IF(one.refer,Computations!H235,Computations!R235)) | J44: =IF(one.analysis,"",IF(one.refer,Computations!F370,Computations!N305)) | K44: =IF(one.analysis,"",IF(one.refer,Computations!G370,Computations!O305))
