Workbook
Name adjust: [1]Computations!$K$11
Name base.year: Input!$C$10
Name launch.year: Input!$C$11
Name one.analysis: [1]Computations!$K$18
Name one.refer: [1]Computations!$K$19
Name population: Input!$C$9
Name refer.area: Input!#REF!
Name refer.label: Input!#REF!
Name study.area: Input!$C$8
Name study.label: Input!#REF!
Name target: [1]Computations!$K$22
Name target.10: Computations!$O$3
Name target.20: Computations!$O$4
Name target.30: Computations!$O$5
Name target.40: Computations!$O$6
Name target.50: Computations!$O$7
Name target.year: Input!$C$12
Name variable: Input!#REF!

Sheet Documentation
A1: Hamilton-Perry_1.00.xlsx
A3: The Hamilton-Perry workbook implements the Hamilton-Perry projection method described in Chapter 5 of Richard E. Klosterman, Kerry Brooks, Joshua Drucker, Edward Feser, and Henry Renski. Planning Support Methods: Urban and Regional Analysis and Projection (Rowman and Littlefield: 2018).
A5: The Hamilton-Perry workbook projects the male and female population in nine age cohorts (ages 0-9 through 80+) for one to five decades. The workbook is distributed with population data for Decatur, Georgia, that are used on pages 84 to 90 of the Planning Support Methods text.
A7: Further information on the book is available at: | B7: https://planningsupport.org/
A9: The workbook was developed by Richard Klosterman. Questions and comments can be sent to: | B9: mailto:dick.klosterman@gmail.com
A11: Contents
A13: The Hamilton-Perry workbook has four worksheets:
A15: (1) Documentation describes the Hamilton-Perry workbook, procedures for using it, the required inputs, and the outputs;
A17: (2) Input is used to enter the Hamilton-Perry projection parameters and observed data;
A19: (3) Calculation computes the Hamilton-Perry population projections. The worksheet is protected and cannot be modified by users.
A21: (4) Output reports the observed and projected male and female population for nine age cohorts. It also plots the launch year and the target year population pyramids.
A23: Inputs and Procedures
A25: The Input worksheet is used to enter five parameters and the observed male and female population in the base and launch years. These data are entered in cells highlighted in blue. The other cells are locked and cannot be modified by the user.
A27: The following values are entered on the Input worksheet.
A29: (1) Study Area, the study area name.
A31: (2) Population, the population to be projected, e.g., "Total," "White," or "Hispanic."
A33: (3) Base Year, the first observation year.
... A49: The population pyramids display the observed population by age and sex in the launch year and the projected population by age and sex in the target year.

Sheet Input
B2: Hamilton-Perry Input Data
B4: Label = | C4: =IF(target.year>launch.year+50,"Target Year cannon exceed "&launch.year+50,"Hamilton-Perry Projections: "&study.area&" "&population&" Population, "&target.year) -> Hamilton-Perry Projections: Decatur Total Population, 2040
E6: =study.area&" "&population&" Population" -> Decatur Total Population
B8: Study Area = | C8: Decatur | E8: Cohort | F8: Ages | G8: =base.year -> 2000 | I8: =launch.year -> 2010
B9: Population = | C9: Total | G9: Male | H9: Female | I9: Male | J9: Female
B10: Base Year = | C10: 2000 | E10: (1) | F10: (2) | G10: (3) | H10: (4) | I10: (5) | J10: (6)
B11: Launch Year = | C11: 2010 | E11: 1 | F11: 0-9 | G11: 1024 | H11: 1009 | I11: 1399 | J11: 1347
B12: Target Year = | C12: 2040 | E12: 2 | F12: 10-19 | G12: 915 | H12: 1205 | I12: 913 | J12: 1190
E13: 3 | F13: 20-29 | G13: 1026 | H13: 1677 | I13: 835 | J13: 1428
E14: 4 | F14: 30-39 | G14: 1681 | H14: 1939 | I14: 1485 | J14: 1846
E15: 5 | F15: 40-49 | G15: 1325 | H15: 1542 | I15: 1538 | J15: 1759
E16: 6 | F16: 50-59 | G16: 838 | H16: 1058 | I16: 1106 | J16: 1331
E17: 7 | F17: 60-69 | G17: 377 | H17: 581 | I17: 699 | J17: 967
E18: 8 | F18: 70-79 | G18: 287 | H18: 727 | I18: 288 | J18: 515
E19: 9 | F19: 80+ | G19: 221 | H19: 715 | I19: 168 | J19: 521
F20: Total | G20: =SUM(G11:G19) -> 7694 | H20: =SUM(H11:H19) -> 10453 | I20: =SUM(I11:I19) -> 8431 | J20: =SUM(J11:J19) -> 10904

Sheet Computations
B1: ="Hamilton-Perry Projections: "&study.area&" "&population&" Female Population, "&launch.year+10&"-"&launch.year+50 -> Hamilton-Perry Projections: Decatur Total Female Population, 2020-2060
B3: Cohort | C3: Ages | D3: Female Population | F3: Transition | G3: Female Population | N3: target.10 = | O3: =target.year=launch.year+10 -> FALSE
D4: =base.year -> 2000 | E4: =launch.year -> 2010 | F4: Ratio | G4: =launch.year+10 -> 2020 | H4: =launch.year+20 -> 2030 | I4: =launch.year+30 -> 2040 | J4: =launch.year+40 -> 2050 | K4: =launch.year+50 -> 2060 | N4: target.20 = | O4: =target.year=launch.year+20 -> FALSE
B5: n | D5: ="PF{n}^"&base.year -> PF{n}^2000 | E5: ="PF{n}^"&launch.year -> PF{n}^2010 | G5: ="PF{n}^"&launch.year+10 -> PF{n}^2020 | H5: ="PF{n}^"&launch.year+20 -> PF{n}^2030 | I5: ="PF{n}^"&launch.year+30 -> PF{n}^2040 | J5: ="PF{n}^"&launch.year+40 -> PF{n}^2050 | K5: ="PF{n}^"&launch.year+50 -> PF{n}^2060 | N5: target.30 = | O5: =target.year=launch.year+30 -> TRUE
B6: (1) | C6: (2) | D6: (3) | E6: (4) | F6: (5) | G6: (6) | H6: (7) | I6: (8) | J6: (9) | K6: (10) | N6: target.40 = | O6: =target.year=launch.year+40 -> FALSE
B7: 0 | C7: -- | D7: -- | E7: -- | F7: =ROUND(E8/(D9+D10+D11),3) -> 0.279 | G7: -- | H7: -- | I7: -- | J7: -- | K7: -- | N7: target.50 = | O7: =target.year=launch.year+50 -> FALSE
B8: 1 | C8: 0-9 | D8: =Input!$H11 -> 1009 | E8: =Input!$J11 -> 1347 | F8: =ROUND(E9/D8,3) -> 1.179 | G8: =ROUND($F$7*(E9+E10+E11),0) -> 1245 | H8: =ROUND($F$7*(G9+G10+G11),0) -> 1275 | I8: =ROUND($F$7*(H9+H10+H11),0) -> 1368 | J8: =ROUND($F$7*(I9+I10+I11),0) -> 1483 | K8: =ROUND($F$7*(J9+J10+J11),0) -> 1481
B9: 2 | C9: 10-19 | D9: =Input!$H12 -> 1205 | E9: =Input!$J12 -> 1190 | F9: =ROUND(E10/D9,3) -> 1.185 | G9: =ROUND(E8*F8,0) -> 1588 | H9: =ROUND($F$8*G8,0) -> 1468 | I9: =ROUND($F$8*H8,0) -> 1503 | J9: =ROUND($F$8*I8,0) -> 1613 | K9: =ROUND($F$8*J8,0) -> 1748
B10: 3 | C10: 20-29 | D10: =Input!$H13 -> 1677 | E10: =Input!$J13 -> 1428 | F10: =ROUND(E11/D10,3) -> 1.101 | G10: =ROUND(E9*F9,0) -> 1410 | H10: =ROUND($F$9*G9,0) -> 1882 | I10: =ROUND($F$9*H9,0) -> 1740 | J10: =ROUND($F$9*I9,0) -> 1781 | K10: =ROUND($F$9*J9,0) -> 1911
B11: 4 | C11: 30-39 | D11: =Input!$H14 -> 1939 | E11: =Input!$J14 -> 1846 | F11: =ROUND(E12/D11,3) -> 0.907 | G11: =ROUND(E10*F10,0) -> 1572 | H11: =ROUND($F$10*G10,0) -> 1552 | I11: =ROUND($F$10*H10,0) -> 2072 | J11: =ROUND($F$10*I10,0) -> 1916 | K11: =ROUND($F$10*J10,0) -> 1961
B12: 5 | C12: 40-49 | D12: =Input!$H15 -> 1542 | E12: =Input!$J15 -> 1759 | F12: =ROUND(E13/D12,3) -> 0.863 | G12: =ROUND(E11*F11,0) -> 1674 | H12: =ROUND($F$11*G11,0) -> 1426 | I12: =ROUND($F$11*H11,0) -> 1408 | J12: =ROUND($F$11*I11,0) -> 1879 | K12: =ROUND($F$11*J11,0) -> 1738
B13: 6 | C13: 50-59 | D13: =Input!$H16 -> 1058 | E13: =Input!$J16 -> 1331 | F13: =ROUND(E14/D13,3) -> 0.914 | G13: =ROUND(E12*F12,0) -> 1518 | H13: =ROUND($F$12*G12,0) -> 1445 | I13: =ROUND($F$12*H12,0) -> 1231 | J13: =ROUND($F$12*I12,0) -> 1215 | K13: =ROUND($F$12*J12,0) -> 1622
B14: 7 | C14: 60-69 | D14: =Input!$H17 -> 581 | E14: =Input!$J17 -> 967 | F14: =ROUND(E15/D14,3) -> 0.886 | G14: =ROUND(E13*F13,0) -> 1217 | H14: =ROUND($F$13*G13,0) -> 1387 | I14: =ROUND($F$13*H13,0) -> 1321 | J14: =ROUND($F$13*I13,0) -> 1125 | K14: =ROUND($F$13*J13,0) -> 1111
B15: 8 | C15: 70-79 | D15: =Input!$H18 -> 727 | E15: =Input!$J18 -> 515 | F15: =ROUND(E16/(D15+D16),3) -> 0.361 | G15: =ROUND(E14*F14,0) -> 857 | H15: =ROUND($F$14*G14,0) -> 1078 | I15: =ROUND($F$14*H14,0) -> 1229 | J15: =ROUND($F$14*I14,0) -> 1170 | K15: =ROUND($F$14*J14,0) -> 997
B16: 9 | C16: 80+ | D16: =Input!$H19 -> 715 | E16: =Input!$J19 -> 521 | F16: -- | G16: =F15*(E15+E16) -> 373.996 | H16: =$F$15*(G15+G16) -> 444.38956 | I16: =$F$15*(H15+H16) -> 549.58263 | J16: =$F$15*(I15+I16) -> 642.06833 | K16: =$F$15*(J15+J16) -> 654.15667
C17: Total | D17: =SUM(D8:D16) -> 10453 | E17: =SUM(E8:E16) -> 10904 | F17: -- | G17: =SUM(G8:G16) -> 11454.996 | H17: =SUM(H8:H16) -> 11957.39 | I17: =SUM(I8:I16) -> 12421.583 | J17: =SUM(J8:J16) -> 12824.068 | K17: =SUM(K8:K16) -> 13223.157
C20: CCRF{1,2} = | D20: ="PF{2}^"&launch.year&" / "&"PF{1}^"&base.year -> PF{2}^2010 / PF{1}^2000 | H20: CCRF{8+9,9} = | I20: ="PF{9}^"&launch.year&" / ( PF{8}^"&base.year&" + PF{9}^"&base.year&" )" -> PF{9}^2010 / ( PF{8}^2000 + PF{9}^2000 )
C21: = | D21: =TEXT(E9,"#,###")&" / "&TEXT(D8,"#,###") -> 1,190 / 1,009 | H21: = | I21: =TEXT(E16,"#,###")&" / ( "&TEXT(D15,"#,###")&" + "&TEXT(D16,"#,###")&" )" -> 521 / ( 727 + 715 )
C22: = | D22: =ROUND(E9/D8,3) -> 1.179 | H22: = | I22: =ROUND(E16/(D15+D16),3) -> 0.361
C24: ="PF{2}^"&launch.year&" =" -> PF{2}^2010 = | D24: ="PF{1}^"&launch.year&" X CCRF{1,2}" -> PF{1}^2010 X CCRF{1,2} | H24: ="PF{9}^"&launch.year&" =" -> PF{9}^2010 = | I24: ="CCRF{8+9,9} X ( PF{8}^"&launch.year&" + PF{9}^"&launch.year&" )" -> CCRF{8+9,9} X ( PF{8}^2010 + PF{9}^2010 )
C25: = | D25: =TEXT(E8,"#,###")&" X "&D22 -> 1,347 X 1.179 | H25: = | I25: =I22&" X ("&TEXT(E15,"#,###")&" + "&TEXT(E16,"#,###")&" )" -> 0.361 X (515 + 521 )
C26: = | D26: =TEXT(E8*F8,"#,###") -> 1,588 | H26: = | I26: =TEXT(F15*(E15+E16),"#,###") -> 374
C28: CWRF = | D28: ="PF{1}^"&launch.year&" / (PF{2}^"&base.year&" + PF{3}^"&base.year&" + PF{4)^"&base.year&")" -> PF{1}^2010 / (PF{2}^2000 + PF{3}^2000 + PF{4)^2000)
C29: = | D29: =TEXT(E8,"#,###")&" / ( "&TEXT(D9,"#,###")&" + "&TEXT(D10,"#,###")&" + "&TEXT(D11,"#,###")&" )" -> 1,347 / ( 1,205 + 1,677 + 1,939 )
C30: = | D30: =ROUND(E8/(D9+D10+D11),3) -> 0.279
C32: ="PF{1}^"&launch.year+10&" =" -> PF{1}^2020 = | D32: ="( PF{2}^"&launch.year&" + PF{3}^"&launch.year&" + PF{4}^"&launch.year&" ) X CWRF" -> ( PF{2}^2010 + PF{3}^2010 + PF{4}^2010 ) X CWRF
C33: = | D33: ="( "&TEXT(E9,"#,###")&" + "&TEXT(E10,"#,###")&" + "&TEXT(E11,"#,###")&" ) X "&D30 -> ( 1,190 + 1,428 + 1,846 ) X 0.279
C34: = | D34: =TEXT((E9+E10+E11)*D30,"#,###") -> 1,245
B37: ="Hamilton-Perry Projections: "&study.area&" "&population&" Male Population, "&launch.year+10&"-"&launch.year+50 -> Hamilton-Perry Projections: Decatur Total Male Population, 2020-2060
B39: Cohort | C39: Ages | D39: Male Population | F39: Transition | G39: Male Population
D40: =base.year -> 2000 | E40: =launch.year -> 2010 | F40: Ratio | G40: =launch.year+10 -> 2020 | H40: =launch.year+20 -> 2030 | I40: =launch.year+30 -> 2040 | J40: =launch.year+40 -> 2050 | K40: =launch.year+50 -> 2060
B41: n | D41: ="PM{n}^"&base.year -> PM{n}^2000 | E41: ="PM{n}^"&launch.year -> PM{n}^2010 | G41: ="PM{n}^"&launch.year+10 -> PM{n}^2020 | H41: ="PM{n}^"&launch.year+20 -> PM{n}^2030 | I41: ="PM{n}^"&launch.year+30 -> PM{n}^2040 | J41: ="PM{n}^"&launch.year+40 -> PM{n}^2050 | K41: ="PM{n}^"&launch.year+50 -> PM{n}^2060
B42: (1) | C42: (2) | D42: (3) | E42: (4) | F42: (5) | G42: (6) | H42: (7) | I42: (8) | J42: (9) | K42: (10)
B43: 0 | C43: -- | D43: -- | E43: -- | F43: =ROUND(E44/(D9+D10+D11),3) -> 0.29 | G43: -- | H43: -- | I43: -- | J43: -- | K43: --
B44: 1 | C44: 0-9 | D44: =Input!$G11 -> 1024 | E44: =Input!$I11 -> 1399 | F44: =ROUND(E45/D44,3) -> 0.892 | G44: =ROUND($F43*(E9+E10+E11),0) -> 1295 | H44: =ROUND($F43*(G9+G10+G11),0) -> 1325 | I44: =ROUND($F43*(H9+H10+H11),0) -> 1422 | J44: =ROUND($F43*(I9+I10+I11),0) -> 1541 | K44: =ROUND($F43*(J9+J10+J11),0) -> 1540
B45: 2 | C45: 10-19 | D45: =Input!$G12 -> 915 | E45: =Input!$I12 -> 913 | F45: =ROUND(E46/D45,3) -> 0.913 | G45: =ROUND(E44*$F44,0) -> 1248 | H45: =ROUND(G44*$F44,0) -> 1155 | I45: =ROUND(H44*$F44,0) -> 1182 | J45: =ROUND(I44*$F44,0) -> 1268 | K45: =ROUND(J44*$F44,0) -> 1375
B46: 3 | C46: 20-29 | D46: =Input!$G13 -> 1026 | E46: =Input!$I13 -> 835 | F46: =ROUND(E47/D46,3) -> 1.447 | G46: =ROUND(E45*$F45,0) -> 834 | H46: =ROUND(G45*$F45,0) -> 1139 | I46: =ROUND(H45*$F45,0) -> 1055 | J46: =ROUND(I45*$F45,0) -> 1079 | K46: =ROUND(J45*$F45,0) -> 1158
B47: 4 | C47: 30-39 | D47: =Input!$G14 -> 1681 | E47: =Input!$I14 -> 1485 | F47: =ROUND(E48/D47,3) -> 0.915 | G47: =ROUND(E46*$F46,0) -> 1208 | H47: =ROUND(G46*$F46,0) -> 1207 | I47: =ROUND(H46*$F46,0) -> 1648 | J47: =ROUND(I46*$F46,0) -> 1527 | K47: =ROUND(J46*$F46,0) -> 1561
B48: 5 | C48: 40-49 | D48: =Input!$G15 -> 1325 | E48: =Input!$I15 -> 1538 | F48: =ROUND(E49/D48,3) -> 0.835 | G48: =ROUND(E47*$F47,0) -> 1359 | H48: =ROUND(G47*$F47,0) -> 1105 | I48: =ROUND(H47*$F47,0) -> 1104 | J48: =ROUND(I47*$F47,0) -> 1508 | K48: =ROUND(J47*$F47,0) -> 1397
B49: 6 | C49: 50-59 | D49: =Input!$G16 -> 838 | E49: =Input!$I16 -> 1106 | F49: =ROUND(E50/D49,3) -> 0.834 | G49: =ROUND(E48*$F48,0) -> 1284 | H49: =ROUND(G48*$F48,0) -> 1135 | I49: =ROUND(H48*$F48,0) -> 923 | J49: =ROUND(I48*$F48,0) -> 922 | K49: =ROUND(J48*$F48,0) -> 1259
B50: 7 | C50: 60-69 | D50: =Input!$G17 -> 377 | E50: =Input!$I17 -> 699 | F50: =ROUND(E51/D50,3) -> 0.764 | G50: =ROUND(E49*$F49,0) -> 922 | H50: =ROUND(G49*$F49,0) -> 1071 | I50: =ROUND(H49*$F49,0) -> 947 | J50: =ROUND(I49*$F49,0) -> 770 | K50: =ROUND(J49*$F49,0) -> 769
B51: 8 | C51: 70-79 | D51: =Input!$G18 -> 287 | E51: =Input!$I18 -> 288 | F51: =ROUND(E52/(D51+D52),3) -> 0.331 | G51: =ROUND(E50*$F50,0) -> 534 | H51: =ROUND(G50*$F50,0) -> 704 | I51: =ROUND(H50*$F50,0) -> 818 | J51: =ROUND(I50*$F50,0) -> 724 | K51: =ROUND(J50*$F50,0) -> 588
B52: 9 | C52: 80+ | D52: =Input!$G19 -> 221 | E52: =Input!$I19 -> 168 | F52: -- | G52: =ROUND($F51*(E51+E52),0) -> 151 | H52: =ROUND($F51*(G51+G52),0) -> 227 | I52: =ROUND($F51*(H51+H52),0) -> 308 | J52: =ROUND($F51*(I51+I52),0) -> 373 | K52: =ROUND($F51*(J51+J52),0) -> 363
C53: Total | D53: =SUM(D44:D52) -> 7694 | E53: =SUM(E44:E52) -> 8431 | F53: -- | G53: =SUM(G44:G52) -> 8835 | H53: =SUM(H44:H52) -> 9068 | I53: =SUM(I44:I52) -> 9407 | J53: =SUM(J44:J52) -> 9712 | K53: =SUM(K44:K52) -> 10010
C56: CCRM{1,2} = | D56: ="PM{2)^"&launch.year&" / "&"PF{1)^"&base.year -> PM{2)^2010 / PF{1)^2000 | H56: CCRM{8+9,9} = | I56: ="PM{9}^"&launch.year&" / ( PM{8}^"&base.year&" + PM{9}^"&base.year&" )" -> PM{9}^2010 / ( PM{8}^2000 + PM{9}^2000 )
C57: = | D57: =TEXT(E45,"#,###")&" / "&TEXT(D44,"#,###") -> 913 / 1,024 | H57: = | I57: =TEXT(E52,"#,###")&" / ( "&TEXT(D51,"#,###")&" + "&TEXT(D52,"#,###")&" )" -> 168 / ( 287 + 221 )
C58: = | D58: =ROUND(E45/D44,3) -> 0.892 | H58: = | I58: =ROUND(E52/(D51+D52),3) -> 0.331
C60: ="PM{2)^"&launch.year&" =" -> PM{2)^2010 = | D60: ="PM{1)^"&launch.year&" X CCRM{1,2}" -> PM{1)^2010 X CCRM{1,2} | H60: ="PM{9}^"&launch.year&" =" -> PM{9}^2010 = | I60: ="CCRF{8+9,9} X ( PM{8}^"&launch.year&" + PM{9}^"&launch.year&" )" -> CCRF{8+9,9} X ( PM{8}^2010 + PM{9}^2010 )
C61: = | D61: =TEXT(E44,"#,###")&" X "&D58 -> 1,399 X 0.892 | H61: = | I61: =I58&" X ("&TEXT(E51,"#,###")&" + "&TEXT(E52,"#,###")&" )" -> 0.331 X (288 + 168 )
C62: = | D62: =TEXT(E44*F44,"#,###") -> 1,248 | H62: = | I62: =TEXT(F51*(E51+E52),"#,###") -> 151
C64: CWRM = | D64: ="PM{1)^"&launch.year&" / (PF{2}^"&base.year&" + PF{3}^"&base.year&" + PF{4}^"&base.year&")" -> PM{1)^2010 / (PF{2}^2000 + PF{3}^2000 + PF{4}^2000)
C65: = | D65: =TEXT(E44,"#,###")&" / ( "&TEXT(D9,"#,###")&" + "&TEXT(D10,"#,###")&" + "&TEXT(D11,"#,###")&" )" -> 1,399 / ( 1,205 + 1,677 + 1,939 )
C66: = | D66: =ROUND(E44/(D9+D10+D11),3) -> 0.29
C68: ="PM{1)^"&launch.year+10&" =" -> PM{1)^2020 = | D68: ="( PF{2}^"&launch.year&" + PF{3}^"&launch.year&" + PF{4}^"&launch.year&" ) X CWRF" -> ( PF{2}^2010 + PF{3}^2010 + PF{4}^2010 ) X CWRF
C69: = | D69: ="( "&TEXT(E9,"#,###")&" + "&TEXT(E10,"#,###")&" + "&TEXT(E11,"#,###")&" ) X "&TEXT(D66,"#.##0") -> ( 1,190 + 1,428 + 1,846 ) X .290
C70: = | D70: =TEXT((E9+E10+E11)*D66,"#,###") -> 1,295
B73: ="Hamilton-Perry Projections: "&study.area&" "&population&" Population, "&target.year -> Hamilton-Perry Projections: Decatur Total Population, 2040
B75: Cohort | C75: Ages | D75: =launch.year&" "&population&" Population" -> 2010 Total Population | G75: =IF(target.10,launch.year+10&" "&population&" Population",IF(target.20,launch.year+20&" "&population&" Population",IF(target.30,launch.year+30&" "&population&" Population",IF(target.40,launch.year+40&" "&population&" Population",IF(target.50,launch.year+50&" "&population&" Population"))))) -> 2040 Total Population | J75: ="Percentage Change ("&launch.year&"-"&target.year&")" -> Percentage Change (2010-2040) | O75: =study.area&" "&population&" Population, "&launch.year -> Decatur Total Population, 2010 | S75: =study.area&" "&population&" Population, "&target.year -> Decatur Total Population, 2040
D76: Male | E76: Female | F76: Total | G76: Male | H76: Female | I76: Total | J76: Male | K76: Female | L76: Total
B77: (1) | C77: (2) | D77: (3) | E77: (4) | F77: (5) | G77: (6) | H77: (7) | I77: (8) | J77: (9) | K77: (10) | L77: (11) | O77: Age | P77: Male | Q77: Female | S77: Age | T77: Male | U77: Female
B78: 1 | C78: 0-9 | D78: =Input!I11 -> 1399 | E78: =Input!J11 -> 1347 | F78: =D78+E78 -> 2746 | G78: =IF(target.10,G44,IF(target.20,H44,IF(target.30,I44,IF(target.40,J44,IF(target.50,K44))))) -> 1422 | H78: =IF(target.10,G8,IF(target.20,H8,IF(target.30,I8,IF(target.40,J8,IF(target.50,K8))))) -> 1368 | I78: =G78+H78 -> 2790 | J78: =(G78-D78)/D78 -> 0.016440315 | K78: =(H78-E78)/E78 -> 0.0155902 | L78: =(I78-F78)/F78 -> 0.016023307 | O78: =C78 -> 0-9 | P78: =-D78 -> -1399 | Q78: =E78 -> 1347 | S78: =C78 -> 0-9 | T78: =-G78 -> -1422 | U78: =H78 -> 1368
B79: 2 | C79: 10-19 | D79: =Input!I12 -> 913 | E79: =Input!J12 -> 1190 | F79: =D79+E79 -> 2103 | G79: =IF(target.10,G45,IF(target.20,H45,IF(target.30,I45,IF(target.40,J45,IF(target.50,K45))))) -> 1182 | H79: =IF(target.10,G9,IF(target.20,H9,IF(target.30,I9,IF(target.40,J9,IF(target.50,K9))))) -> 1503 | I79: =G79+H79 -> 2685 | J79: =(G79-D79)/D79 -> 0.29463308 | K79: =(H79-E79)/E79 -> 0.26302521 | L79: =(I79-F79)/F79 -> 0.2767475 | O79: =C79 -> 10-19 | P79: =-D79 -> -913 | Q79: =E79 -> 1190 | S79: =C79 -> 10-19 | T79: =-G79 -> -1182 | U79: =H79 -> 1503
B80: 3 | C80: 20-29 | D80: =Input!I13 -> 835 | E80: =Input!J13 -> 1428 | F80: =D80+E80 -> 2263 | G80: =IF(target.10,G46,IF(target.20,H46,IF(target.30,I46,IF(target.40,J46,IF(target.50,K46))))) -> 1055 | H80: =IF(target.10,G10,IF(target.20,H10,IF(target.30,I10,IF(target.40,J10,IF(target.50,K10))))) -> 1740 | I80: =G80+H80 -> 2795 | J80: =(G80-D80)/D80 -> 0.26347305 | K80: =(H80-E80)/E80 -> 0.21848739 | L80: =(I80-F80)/F80 -> 0.23508617 | O80: =C80 -> 20-29 | P80: =-D80 -> -835 | Q80: =E80 -> 1428 | S80: =C80 -> 20-29 | T80: =-G80 -> -1055 | U80: =H80 -> 1740
B81: 4 | C81: 30-39 | D81: =Input!I14 -> 1485 | E81: =Input!J14 -> 1846 | F81: =D81+E81 -> 3331 | G81: =IF(target.10,G47,IF(target.20,H47,IF(target.30,I47,IF(target.40,J47,IF(target.50,K47))))) -> 1648 | H81: =IF(target.10,G11,IF(target.20,H11,IF(target.30,I11,IF(target.40,J11,IF(target.50,K11))))) -> 2072 | I81: =G81+H81 -> 3720 | J81: =(G81-D81)/D81 -> 0.10976431 | K81: =(H81-E81)/E81 -> 0.12242687 | L81: =(I81-F81)/F81 -> 0.11678175 | O81: =C81 -> 30-39 | P81: =-D81 -> -1485 | Q81: =E81 -> 1846 | S81: =C81 -> 30-39 | T81: =-G81 -> -1648 | U81: =H81 -> 2072
B82: 5 | C82: 40-49 | D82: =Input!I15 -> 1538 | E82: =Input!J15 -> 1759 | F82: =D82+E82 -> 3297 | G82: =IF(target.10,G48,IF(target.20,H48,IF(target.30,I48,IF(target.40,J48,IF(target.50,K48))))) -> 1104 | H82: =IF(target.10,G12,IF(target.20,H12,IF(target.30,I12,IF(target.40,J12,IF(target.50,K12))))) -> 1408 | I82: =G82+H82 -> 2512 | J82: =(G82-D82)/D82 -> -0.28218466 | K82: =(H82-E82)/E82 -> -0.1995452 | L82: =(I82-F82)/F82 -> -0.23809524 | O82: =C82 -> 40-49 | P82: =-D82 -> -1538 | Q82: =E82 -> 1759 | S82: =C82 -> 40-49 | T82: =-G82 -> -1104 | U82: =H82 -> 1408
B83: 6 | C83: 50-59 | D83: =Input!I16 -> 1106 | E83: =Input!J16 -> 1331 | F83: =D83+E83 -> 2437 | G83: =IF(target.10,G49,IF(target.20,H49,IF(target.30,I49,IF(target.40,J49,IF(target.50,K49))))) -> 923 | H83: =IF(target.10,G13,IF(target.20,H13,IF(target.30,I13,IF(target.40,J13,IF(target.50,K13))))) -> 1231 | I83: =G83+H83 -> 2154 | J83: =(G83-D83)/D83 -> -0.16546112 | K83: =(H83-E83)/E83 -> -0.07513148 | L83: =(I83-F83)/F83 -> -0.11612638 | O83: =C83 -> 50-59 | P83: =-D83 -> -1106 | Q83: =E83 -> 1331 | S83: =C83 -> 50-59 | T83: =-G83 -> -923 | U83: =H83 -> 1231
B84: 7 | C84: 60-69 | D84: =Input!I17 -> 699 | E84: =Input!J17 -> 967 | F84: =D84+E84 -> 1666 | G84: =IF(target.10,G50,IF(target.20,H50,IF(target.30,I50,IF(target.40,J50,IF(target.50,K50))))) -> 947 | H84: =IF(target.10,G14,IF(target.20,H14,IF(target.30,I14,IF(target.40,J14,IF(target.50,K14))))) -> 1321 | I84: =G84+H84 -> 2268 | J84: =(G84-D84)/D84 -> 0.35479256 | K84: =(H84-E84)/E84 -> 0.36608066 | L84: =(I84-F84)/F84 -> 0.36134454 | O84: =C84 -> 60-69 | P84: =-D84 -> -699 | Q84: =E84 -> 967 | S84: =C84 -> 60-69 | T84: =-G84 -> -947 | U84: =H84 -> 1321
B85: 8 | C85: 70-79 | D85: =Input!I18 -> 288 | E85: =Input!J18 -> 515 | F85: =D85+E85 -> 803 | G85: =IF(target.10,G51,IF(target.20,H51,IF(target.30,I51,IF(target.40,J51,IF(target.50,K51))))) -> 818 | H85: =IF(target.10,G15,IF(target.20,H15,IF(target.30,I15,IF(target.40,J15,IF(target.50,K15))))) -> 1229 | I85: =G85+H85 -> 2047 | J85: =(G85-D85)/D85 -> 1.8402778 | K85: =(H85-E85)/E85 -> 1.3864078 | L85: =(I85-F85)/F85 -> 1.5491905 | O85: =C85 -> 70-79 | P85: =-D85 -> -288 | Q85: =E85 -> 515 | S85: =C85 -> 70-79 | T85: =-G85 -> -818 | U85: =H85 -> 1229
B86: 9 | C86: 80+ | D86: =Input!I19 -> 168 | E86: =Input!J19 -> 521 | F86: =D86+E86 -> 689 | G86: =IF(target.10,G52,IF(target.20,H52,IF(target.30,I52,IF(target.40,J52,IF(target.50,K52))))) -> 308 | H86: =IF(target.10,G16,IF(target.20,H16,IF(target.30,I16,IF(target.40,J16,IF(target.50,K16))))) -> 549.58263 | I86: =G86+H86 -> 857.58263 | J86: =(G86-D86)/D86 -> 0.83333333 | K86: =(H86-E86)/E86 -> 0.054861094 | L86: =(I86-F86)/F86 -> 0.24467726 | O86: =C86 -> 80+ | P86: =-D86 -> -168 | Q86: =E86 -> 521 | S86: =C86 -> 80+ | T86: =-G86 -> -308 | U86: =H86 -> 549.58263
C87: Total | D87: =SUM(D78:D86) -> 8431 | E87: =SUM(E78:E86) -> 10904 | F87: =SUM(F78:F86) -> 19335 | G87: =SUM(G78:G86) -> 9407 | H87: =SUM(H78:H86) -> 12421.583 | I87: =SUM(I78:I86) -> 21828.583 | J87: =(G87-D87)/D87 -> 0.11576325 | K87: =(H87-E87)/E87 -> 0.13917669 | L87: =(I87-F87)/F87 -> 0.12896729

Sheet Output
B2: ="Hamilton-Perry Projections: "&study.area&" "&population&" Population, "&target.year -> Hamilton-Perry Projections: Decatur Total Population, 2040
B4: Cohort | C4: Ages | D4: =launch.year&" "&population&" Population" -> 2010 Total Population | G4: =IF(target.10,launch.year+10&" "&population&" Population",IF(target.20,launch.year+20&" "&population&" Population",IF(target.30,launch.year+30&" "&population&" Population",IF(target.40,launch.year+40&" "&population&" Population",IF(target.50,launch.year+50&" "&population&" Population"))))) -> 2040 Total Population | J4: ="Percentage Change ("&launch.year&"-"&target.year&")" -> Percentage Change (2010-2040)
D5: Male | E5: Female | F5: Total | G5: Male | H5: Female | I5: Total | J5: Male | K5: Female | L5: Total
B6: (1) | C6: (2) | D6: (3) | E6: (4) | F6: (5) | G6: (6) | H6: (7) | I6: (8) | J6: (9) | K6: (10) | L6: (11)
B7: 1 | C7: 0-9 | D7: =Computations!D78 -> 1399 | E7: =Computations!E78 -> 1347 | F7: =Computations!F78 -> 2746 | G7: =Computations!G78 -> 1422 | H7: =Computations!H78 -> 1368 | I7: =Computations!I78 -> 2790 | J7: =Computations!J78 -> 0.016440315 | K7: =Computations!K78 -> 0.0155902 | L7: =Computations!L78 -> 0.016023307
B8: 2 | C8: 10-19 | D8: =Computations!D79 -> 913 | E8: =Computations!E79 -> 1190 | F8: =Computations!F79 -> 2103 | G8: =Computations!G79 -> 1182 | H8: =Computations!H79 -> 1503 | I8: =Computations!I79 -> 2685 | J8: =Computations!J79 -> 0.29463308 | K8: =Computations!K79 -> 0.26302521 | L8: =Computations!L79 -> 0.2767475
B9: 3 | C9: 20-29 | D9: =Computations!D80 -> 835 | E9: =Computations!E80 -> 1428 | F9: =Computations!F80 -> 2263 | G9: =Computations!G80 -> 1055 | H9: =Computations!H80 -> 1740 | I9: =Computations!I80 -> 2795 | J9: =Computations!J80 -> 0.26347305 | K9: =Computations!K80 -> 0.21848739 | L9: =Computations!L80 -> 0.23508617
B10: 4 | C10: 30-39 | D10: =Computations!D81 -> 1485 | E10: =Computations!E81 -> 1846 | F10: =Computations!F81 -> 3331 | G10: =Computations!G81 -> 1648 | H10: =Computations!H81 -> 2072 | I10: =Computations!I81 -> 3720 | J10: =Computations!J81 -> 0.10976431 | K10: =Computations!K81 -> 0.12242687 | L10: =Computations!L81 -> 0.11678175
B11: 5 | C11: 40-49 | D11: =Computations!D82 -> 1538 | E11: =Computations!E82 -> 1759 | F11: =Computations!F82 -> 3297 | G11: =Computations!G82 -> 1104 | H11: =Computations!H82 -> 1408 | I11: =Computations!I82 -> 2512 | J11: =Computations!J82 -> -0.28218466 | K11: =Computations!K82 -> -0.1995452 | L11: =Computations!L82 -> -0.23809524
B12: 6 | C12: 50-59 | D12: =Computations!D83 -> 1106 | E12: =Computations!E83 -> 1331 | F12: =Computations!F83 -> 2437 | G12: =Computations!G83 -> 923 | H12: =Computations!H83 -> 1231 | I12: =Computations!I83 -> 2154 | J12: =Computations!J83 -> -0.16546112 | K12: =Computations!K83 -> -0.07513148 | L12: =Computations!L83 -> -0.11612638
B13: 7 | C13: 60-69 | D13: =Computations!D84 -> 699 | E13: =Computations!E84 -> 967 | F13: =Computations!F84 -> 1666 | G13: =Computations!G84 -> 947 | H13: =Computations!H84 -> 1321 | I13: =Computations!I84 -> 2268 | J13: =Computations!J84 -> 0.35479256 | K13: =Computations!K84 -> 0.36608066 | L13: =Computations!L84 -> 0.36134454
B14: 8 | C14: 70-79 | D14: =Computations!D85 -> 288 | E14: =Computations!E85 -> 515 | F14: =Computations!F85 -> 803 | G14: =Computations!G85 -> 818 | H14: =Computations!H85 -> 1229 | I14: =Computations!I85 -> 2047 | J14: =Computations!J85 -> 1.8402778 | K14: =Computations!K85 -> 1.3864078 | L14: =Computations!L85 -> 1.5491905
B15: 9 | C15: 80+ | D15: =Computations!D86 -> 168 | E15: =Computations!E86 -> 521 | F15: =Computations!F86 -> 689 | G15: =Computations!G86 -> 308 | H15: =Computations!H86 -> 549.58263 | I15: =Computations!I86 -> 857.58263 | J15: =Computations!J86 -> 0.83333333 | K15: =Computations!K86 -> 0.054861094 | L15: =Computations!L86 -> 0.24467726
C16: Total | D16: =SUM(D7:D15) -> 8431 | E16: =SUM(E7:E15) -> 10904 | F16: =SUM(F7:F15) -> 19335 | G16: =SUM(G7:G15) -> 9407 | H16: =SUM(H7:H15) -> 12421.583 | I16: =SUM(I7:I15) -> 21828.583 | J16: =(G16-D16)/D16 -> 0.11576325 | K16: =(H16-E16)/E16 -> 0.13917669 | L16: =(I16-F16)/F16 -> 0.12896729
